BEGIN:VCALENDAR
VERSION:2.0
PRODID:-//Crack Den - ECPv6.15.20//NONSGML v1.0//EN
CALSCALE:GREGORIAN
METHOD:PUBLISH
X-ORIGINAL-URL:https://thecrackden.com
X-WR-CALDESC:Events for Crack Den
REFRESH-INTERVAL;VALUE=DURATION:PT1H
X-Robots-Tag:noindex
X-PUBLISHED-TTL:PT1H
BEGIN:VTIMEZONE
TZID:America/Los_Angeles
BEGIN:DAYLIGHT
TZOFFSETFROM:-0800
TZOFFSETTO:-0700
TZNAME:PDT
DTSTART:20250309T100000
END:DAYLIGHT
BEGIN:STANDARD
TZOFFSETFROM:-0700
TZOFFSETTO:-0800
TZNAME:PST
DTSTART:20251102T090000
END:STANDARD
BEGIN:DAYLIGHT
TZOFFSETFROM:-0800
TZOFFSETTO:-0700
TZNAME:PDT
DTSTART:20260308T100000
END:DAYLIGHT
BEGIN:STANDARD
TZOFFSETFROM:-0700
TZOFFSETTO:-0800
TZNAME:PST
DTSTART:20261101T090000
END:STANDARD
BEGIN:DAYLIGHT
TZOFFSETFROM:-0800
TZOFFSETTO:-0700
TZNAME:PDT
DTSTART:20270314T100000
END:DAYLIGHT
BEGIN:STANDARD
TZOFFSETFROM:-0700
TZOFFSETTO:-0800
TZNAME:PST
DTSTART:20271107T090000
END:STANDARD
END:VTIMEZONE
BEGIN:VEVENT
DTSTART;TZID=America/Los_Angeles:20260509T090000
DTEND;TZID=America/Los_Angeles:20260509T210000
DTSTAMP:20260419T170641
CREATED:20260404T041344Z
LAST-MODIFIED:20260404T041344Z
UID:8573-1778317200-1778360400@thecrackden.com
SUMMARY:Triple Dare Date You
DESCRIPTION:Show up and be prepared to pair off with 1 other individual to sit at a tent and enjoy the food and drink ready for you. You will get high\, you will do things you might regret\, and the scariest part? It’ll all be recorded so there’s no pretending like you didn’t do it. Will this bring you closer to your soul mate\, best friend\, or will make an arch enemy at the end of the day? \n((Click on the teleport icon on your HUD\, select lookout\, will take you directly to the place. If you have preferences on same-gender\, please coordinate with username: darkzeshade resident inworld\, or taboo.angel in Discord in advance))
URL:https://thecrackden.com/event/triple-dare-date-you/
LOCATION:Lookout Beach
CATEGORIES:Crack Den
ATTACH;FMTTYPE=image/png:https://thecrackden.com/wp-content/uploads/2026/04/ChatGPT-Image-Apr-3-2026-10_08_32-PM.png
END:VEVENT
BEGIN:VEVENT
DTSTART;VALUE=DATE:20260613
DTEND;VALUE=DATE:20260614
DTSTAMP:20260419T170641
CREATED:20251204T140123Z
LAST-MODIFIED:20251204T142120Z
UID:7213-1781308800-1781395199@thecrackden.com
SUMMARY:Batterie Beach Pride 2026 🌈✨
DESCRIPTION:TBA
URL:https://thecrackden.com/event/pride-festival/
CATEGORIES:Crack Den
END:VEVENT
BEGIN:VEVENT
DTSTART;TZID=America/Los_Angeles:20261024T120000
DTEND;TZID=America/Los_Angeles:20261024T150000
DTSTAMP:20260419T170641
CREATED:20251204T141435Z
LAST-MODIFIED:20251204T141435Z
UID:7221-1792843200-1792854000@thecrackden.com
SUMMARY:Hathian 2026 Halloween Party: Monster Mash
DESCRIPTION:TBA
URL:https://thecrackden.com/event/hathian-2026-halloween-party-monster-mash/
CATEGORIES:Crack Den
END:VEVENT
END:VCALENDAR