BEGIN:VCALENDAR
VERSION:2.0
PRODID:-//Crack Den - ECPv6.15.20//NONSGML v1.0//EN
CALSCALE:GREGORIAN
METHOD:PUBLISH
X-WR-CALNAME:Crack Den
X-ORIGINAL-URL:https://thecrackden.com
X-WR-CALDESC:Events for Crack Den
REFRESH-INTERVAL;VALUE=DURATION:PT1H
X-Robots-Tag:noindex
X-PUBLISHED-TTL:PT1H
BEGIN:VTIMEZONE
TZID:America/Los_Angeles
BEGIN:DAYLIGHT
TZOFFSETFROM:-0800
TZOFFSETTO:-0700
TZNAME:PDT
DTSTART:20240310T100000
END:DAYLIGHT
BEGIN:STANDARD
TZOFFSETFROM:-0700
TZOFFSETTO:-0800
TZNAME:PST
DTSTART:20241103T090000
END:STANDARD
BEGIN:DAYLIGHT
TZOFFSETFROM:-0800
TZOFFSETTO:-0700
TZNAME:PDT
DTSTART:20250309T100000
END:DAYLIGHT
BEGIN:STANDARD
TZOFFSETFROM:-0700
TZOFFSETTO:-0800
TZNAME:PST
DTSTART:20251102T090000
END:STANDARD
BEGIN:DAYLIGHT
TZOFFSETFROM:-0800
TZOFFSETTO:-0700
TZNAME:PDT
DTSTART:20260308T100000
END:DAYLIGHT
BEGIN:STANDARD
TZOFFSETFROM:-0700
TZOFFSETTO:-0800
TZNAME:PST
DTSTART:20261101T090000
END:STANDARD
END:VTIMEZONE
BEGIN:VEVENT
DTSTART;TZID=America/Los_Angeles:20251009T110000
DTEND;TZID=America/Los_Angeles:20251009T130000
DTSTAMP:20260419T200905
CREATED:20251008T135151Z
LAST-MODIFIED:20251008T135151Z
UID:6874-1760007600-1760014800@thecrackden.com
SUMMARY:Music with Buffy
DESCRIPTION:Music class
URL:https://thecrackden.com/event/music-with-buffy-3/
LOCATION:Columtreal University
CATEGORIES:Columtreal
END:VEVENT
BEGIN:VEVENT
DTSTART;TZID=America/Los_Angeles:20251010T100000
DTEND;TZID=America/Los_Angeles:20251010T113000
DTSTAMP:20260419T200905
CREATED:20251010T000148Z
LAST-MODIFIED:20251010T162334Z
UID:6887-1760090400-1760095800@thecrackden.com
SUMMARY:Intro to Medicine 101 w/Dr. Castillo
DESCRIPTION:Introduction to a series of hands-on classes and labs to be hosted by Dr. Theo Castillo\, Surgeon and Emergency Medicine doctor at HGH. Become acquainted with medicine and learn the basics of healthcare. All inclusive class for anyone with basic curiosity to this subject\, even the morbid curiosities.
URL:https://thecrackden.com/event/intro-to-medicine-101-w-dr-castillo/
LOCATION:Columtreal University
CATEGORIES:Columtreal
END:VEVENT
BEGIN:VEVENT
DTSTART;TZID=America/Los_Angeles:20251010T123000
DTEND;TZID=America/Los_Angeles:20251010T143000
DTSTAMP:20260419T200905
CREATED:20251008T104855Z
LAST-MODIFIED:20251008T104855Z
UID:6870-1760099400-1760106600@thecrackden.com
SUMMARY:Bake It Till You Make It!: Pizza
DESCRIPTION:In the Bake It Till You Make It! course\, students will learn how to prepare recipes they can use as a source of extra income. In the third class\, they’ll be taught how to make pizza\, after all\, pizza is a pie. Join Professor Helena Portela on October 10th at 12:30 P.M. and get baking!
URL:https://thecrackden.com/event/bake-it-till-you-make-it-pizza/
LOCATION:Columtreal University
CATEGORIES:Columtreal
END:VEVENT
BEGIN:VEVENT
DTSTART;TZID=America/Los_Angeles:20251013T203000
DTEND;TZID=America/Los_Angeles:20251013T230000
DTSTAMP:20260419T200905
CREATED:20251013T004358Z
LAST-MODIFIED:20251013T004358Z
UID:6903-1760387400-1760396400@thecrackden.com
SUMMARY:Murphys Up All Night Reboot-Surprise Party!
DESCRIPTION:It’s a very special birthday so please join me in throwing Murphy’s favorite bouncer a surprise party! It’s a surprise because he doesnt know it yet. Also I have free shirts and shots for everyone!
URL:https://thecrackden.com/event/murphys-up-all-night-reboot-surprise-party/
LOCATION:Columtreal University
CATEGORIES:Columtreal
ATTACH;FMTTYPE=image/png:https://thecrackden.com/wp-content/uploads/2025/10/62b2050c85674ac6dae3b4b2_murphys-logo-1-p-500.png
END:VEVENT
BEGIN:VEVENT
DTSTART;TZID=America/Los_Angeles:20251014T120000
DTEND;TZID=America/Los_Angeles:20251014T133000
DTSTAMP:20260419T200905
CREATED:20251013T002236Z
LAST-MODIFIED:20251013T002236Z
UID:6898-1760443200-1760448600@thecrackden.com
SUMMARY:CU Looter Cheer Practice/ tryouts
DESCRIPTION:Join the Cheerios as we practice tuesdays and hold open tryouts. Bring a routine or learn one of ours
URL:https://thecrackden.com/event/cu-looter-cheer-practice-tryouts-3/
LOCATION:Columtreal University
CATEGORIES:Columtreal
ATTACH;FMTTYPE=image/png:https://thecrackden.com/wp-content/uploads/2025/10/DBD-GO-Looters-Flag-Less-Busy.png
END:VEVENT
BEGIN:VEVENT
DTSTART;TZID=America/Los_Angeles:20251015T130000
DTEND;TZID=America/Los_Angeles:20251016T143000
DTSTAMP:20260419T200905
CREATED:20251013T211534Z
LAST-MODIFIED:20251013T211534Z
UID:6916-1760533200-1760625000@thecrackden.com
SUMMARY:Medicine 101: Life Saving Measures W/Dr.Castillo
DESCRIPTION:Course 2: Life saving measures and prevention are something everyone should know the basics of\,  join Dr. Castillo of HGH to learn how and you may very well do a little mouth to mouth by the end of it!
URL:https://thecrackden.com/event/medicine-101-life-saving-measures-w-dr-castillo/
LOCATION:Columtreal University
CATEGORIES:Columtreal
END:VEVENT
BEGIN:VEVENT
DTSTART;TZID=America/Los_Angeles:20251023T110000
DTEND;TZID=America/Los_Angeles:20251023T120000
DTSTAMP:20260419T200905
CREATED:20251016T145444Z
LAST-MODIFIED:20251017T013742Z
UID:6926-1761217200-1761220800@thecrackden.com
SUMMARY:CU History Class
DESCRIPTION:Today we will be discussing the Salem Witch Trials.
URL:https://thecrackden.com/event/cu-history-class-4/
CATEGORIES:Columtreal
END:VEVENT
BEGIN:VEVENT
DTSTART;TZID=America/Los_Angeles:20251024T123000
DTEND;TZID=America/Los_Angeles:20251024T143000
DTSTAMP:20260419T200905
CREATED:20251020T094601Z
LAST-MODIFIED:20251020T094601Z
UID:6959-1761309000-1761316200@thecrackden.com
SUMMARY:Bake It Till You Make It!: Frosting
DESCRIPTION:In the Bake It Till You Make It! course\, students will learn how to prepare recipes they can use as a source of extra income. In this Halloween edition\, they’ll brew up eerie frosting and conjure up delightfully spooky cake decorations. Join Helena Portela\, the Sugar Witch Extraordinaire on October 24th at 12:30 P.M. and get baking! \nP.S.: Students are welcome to come in costume for this class — and those whose outfits don’t haunt their cooking will be rewarded with chocolate treats!
URL:https://thecrackden.com/event/bake-it-till-you-make-it-frosting/
LOCATION:Columtreal University
CATEGORIES:Columtreal
END:VEVENT
BEGIN:VEVENT
DTSTART;TZID=America/Los_Angeles:20251028T110000
DTEND;TZID=America/Los_Angeles:20251028T140000
DTSTAMP:20260419T200905
CREATED:20251015T202032Z
LAST-MODIFIED:20251020T103309Z
UID:6920-1761649200-1761660000@thecrackden.com
SUMMARY:CU Sigma Theta Noir Halloween Party
DESCRIPTION:A halloween party at the Sigma Theta Noir mansion
URL:https://thecrackden.com/event/cu-sigma-theta-noir-halloween-party/
LOCATION:Columtreal University
CATEGORIES:Columtreal
END:VEVENT
BEGIN:VEVENT
DTSTART;TZID=America/Los_Angeles:20251030T110000
DTEND;TZID=America/Los_Angeles:20251030T123000
DTSTAMP:20260419T200905
CREATED:20251021T150418Z
LAST-MODIFIED:20251022T105611Z
UID:6993-1761822000-1761827400@thecrackden.com
SUMMARY:Music with Buffy
DESCRIPTION:Music with Buffy
URL:https://thecrackden.com/event/music-with-buffy-4/
LOCATION:Columtreal University
CATEGORIES:Columtreal
END:VEVENT
BEGIN:VEVENT
DTSTART;TZID=America/Los_Angeles:20251031T193000
DTEND;TZID=America/Los_Angeles:20251031T223000
DTSTAMP:20260419T200905
CREATED:20251018T144950Z
LAST-MODIFIED:20251018T144950Z
UID:6939-1761939000-1761949800@thecrackden.com
SUMMARY:All Hallows Eve Sigma Informal DEA Raid
DESCRIPTION:Join Sigma Theta Noir as we raid and invade the Delta house and rage! Pledge our brother frat and join the Jocks as the cheer squad takes over and throws a haunted ass rager. There will be drinks\, sponsored by Murphys and probably kush!
URL:https://thecrackden.com/event/all-hallows-eve-sigma-informal-dea-raid/
LOCATION:Columtreal University
CATEGORIES:Columtreal
END:VEVENT
END:VCALENDAR