BEGIN:VCALENDAR
VERSION:2.0
PRODID:-//Crack Den - ECPv6.15.20//NONSGML v1.0//EN
CALSCALE:GREGORIAN
METHOD:PUBLISH
X-WR-CALNAME:Crack Den
X-ORIGINAL-URL:https://thecrackden.com
X-WR-CALDESC:Events for Crack Den
REFRESH-INTERVAL;VALUE=DURATION:PT1H
X-Robots-Tag:noindex
X-PUBLISHED-TTL:PT1H
BEGIN:VTIMEZONE
TZID:America/Los_Angeles
BEGIN:DAYLIGHT
TZOFFSETFROM:-0800
TZOFFSETTO:-0700
TZNAME:PDT
DTSTART:20250309T100000
END:DAYLIGHT
BEGIN:STANDARD
TZOFFSETFROM:-0700
TZOFFSETTO:-0800
TZNAME:PST
DTSTART:20251102T090000
END:STANDARD
BEGIN:DAYLIGHT
TZOFFSETFROM:-0800
TZOFFSETTO:-0700
TZNAME:PDT
DTSTART:20260308T100000
END:DAYLIGHT
BEGIN:STANDARD
TZOFFSETFROM:-0700
TZOFFSETTO:-0800
TZNAME:PST
DTSTART:20261101T090000
END:STANDARD
BEGIN:DAYLIGHT
TZOFFSETFROM:-0800
TZOFFSETTO:-0700
TZNAME:PDT
DTSTART:20270314T100000
END:DAYLIGHT
BEGIN:STANDARD
TZOFFSETFROM:-0700
TZOFFSETTO:-0800
TZNAME:PST
DTSTART:20271107T090000
END:STANDARD
END:VTIMEZONE
BEGIN:VEVENT
DTSTART;TZID=America/Los_Angeles:20260609T120000
DTEND;TZID=America/Los_Angeles:20260609T140000
DTSTAMP:20260424T042652
CREATED:20260407T210634Z
LAST-MODIFIED:20260407T213504Z
UID:8608-1781006400-1781013600@thecrackden.com
SUMMARY:OOC Stream Night 🍿 Red\, White and Royal Blue
DESCRIPTION:Have you watched this yet? We did! \nCelebrate LGBTQ+ media and representation\, and hang out with us for a little OOC fun! \nThis session: Red\, White and Royal Blue 👑
URL:https://thecrackden.com/event/ooc-stream-night-%f0%9f%8d%bf-red-white-and-royal-blue/
LOCATION:BW Welcome Hub
CATEGORIES:OOC
ATTACH;FMTTYPE=image/jpeg:https://thecrackden.com/wp-content/uploads/2026/04/movie-night6.jpg
END:VEVENT
BEGIN:VEVENT
DTSTART;TZID=America/Los_Angeles:20260606T120000
DTEND;TZID=America/Los_Angeles:20260606T150000
DTSTAMP:20260424T042652
CREATED:20251204T135800Z
LAST-MODIFIED:20251204T142203Z
UID:7211-1780747200-1780758000@thecrackden.com
SUMMARY:Pride Season Opening: Foam Rave 🌈✨
DESCRIPTION:
URL:https://thecrackden.com/event/pride-foam-rave/
CATEGORIES:Backwaters
END:VEVENT
BEGIN:VEVENT
DTSTART;TZID=America/Los_Angeles:20260530T120000
DTEND;TZID=America/Los_Angeles:20260530T160000
DTSTAMP:20260424T042652
CREATED:20260225T214938Z
LAST-MODIFIED:20260225T214938Z
UID:8104-1780142400-1780156800@thecrackden.com
SUMMARY:Bayou Brawls: TBA
DESCRIPTION:Back after a small break \n  \n[[For any questions\, please contact Kingston Varriale]]
URL:https://thecrackden.com/event/bayou-brawls-tba-3/
CATEGORIES:Backwaters
END:VEVENT
BEGIN:VEVENT
DTSTART;TZID=America/Los_Angeles:20260523T080000
DTEND;TZID=America/Los_Angeles:20260523T140000
DTSTAMP:20260424T042652
CREATED:20260408T022911Z
LAST-MODIFIED:20260408T154129Z
UID:8621-1779523200-1779544800@thecrackden.com
SUMMARY:Sinner's Club 50's Bash
DESCRIPTION:Details to be announced
URL:https://thecrackden.com/event/sinners-club-50s-bash/
LOCATION:Sinners Club
CATEGORIES:Crack Den
END:VEVENT
BEGIN:VEVENT
DTSTART;TZID=America/Los_Angeles:20260516T120000
DTEND;TZID=America/Los_Angeles:20260516T160000
DTSTAMP:20260424T042652
CREATED:20260403T195917Z
LAST-MODIFIED:20260421T202401Z
UID:8569-1778932800-1778947200@thecrackden.com
SUMMARY:FDH Summer Soakdown
DESCRIPTION:Details to be announced
URL:https://thecrackden.com/event/fdh-summer-soakdown/
CATEGORIES:Crack Den
END:VEVENT
BEGIN:VEVENT
DTSTART;TZID=America/Los_Angeles:20260515T120000
DTEND;TZID=America/Los_Angeles:20260515T150000
DTSTAMP:20260424T042652
CREATED:20260305T201013Z
LAST-MODIFIED:20260331T230108Z
UID:8224-1778846400-1778857200@thecrackden.com
SUMMARY:OOC Game Night 🎲 Escape Room
DESCRIPTION:Do you want to play a game? We do! \nJoin us for a casual OOC game night. Come make friends\, have fun\, and get competitive! \nThis session: escape room!
URL:https://thecrackden.com/event/tba-3/
CATEGORIES:OOC
ATTACH;FMTTYPE=image/jpeg:https://thecrackden.com/wp-content/uploads/2026/03/game-night2.jpg
END:VEVENT
BEGIN:VEVENT
DTSTART;TZID=America/Los_Angeles:20260513T130000
DTEND;TZID=America/Los_Angeles:20260513T150000
DTSTAMP:20260424T042652
CREATED:20260417T235755Z
LAST-MODIFIED:20260418T001635Z
UID:8706-1778677200-1778684400@thecrackden.com
SUMMARY:CU Volleyball Team Practice and Tryouts
DESCRIPTION:📣 JOIN US!\nJoin the CU Ballbusters for an open volleyball practice in the CU Gymnasium! Current team members and anyone interested in trying out are welcome. \nThis is a great chance to learn more about girls’ volleyball\, meet the team\, and see what our program is all about. \n\n💪 WHY JOIN?\n\nBuild strength\, speed\, and endurance\nImprove volleyball skills and coordination\nLearn teamwork and communication\nGain confidence on and off the court\nBe part of a fun\, supportive team\n\n\n🏐 WHAT TO EXPECT\n\nHigh-energy drills and practice\nSkill development for all levels\nA positive\, competitive environment\n\nAll experience levels are welcome—come ready to learn and have fun! \n\n📍 DETAILS\nLocation: CU GymnasiumBring: Water bottle & athletic gear \n\n⭐ SEE YOU THERE!\nCome ready to work hard\, improve your game\, and be part of the CU Ballbusters volleyball team!
URL:https://thecrackden.com/event/cu-volleyball-team-practice-and-tryouts/
LOCATION:CU Gymnasium
CATEGORIES:Columtreal
ATTACH;FMTTYPE=image/jpeg:https://thecrackden.com/wp-content/uploads/2026/04/img_volleyball-scaled.jpg
ORGANIZER;CN="Iolana Kamakeeaina (apocalypticdove.resident)":MAILTO:apocalyptic.doves@gmail.com
END:VEVENT
BEGIN:VEVENT
DTSTART;TZID=America/Los_Angeles:20260509T090000
DTEND;TZID=America/Los_Angeles:20260509T210000
DTSTAMP:20260424T042652
CREATED:20260404T041344Z
LAST-MODIFIED:20260404T041344Z
UID:8573-1778317200-1778360400@thecrackden.com
SUMMARY:Triple Dare Date You
DESCRIPTION:Show up and be prepared to pair off with 1 other individual to sit at a tent and enjoy the food and drink ready for you. You will get high\, you will do things you might regret\, and the scariest part? It’ll all be recorded so there’s no pretending like you didn’t do it. Will this bring you closer to your soul mate\, best friend\, or will make an arch enemy at the end of the day? \n((Click on the teleport icon on your HUD\, select lookout\, will take you directly to the place. If you have preferences on same-gender\, please coordinate with username: darkzeshade resident inworld\, or taboo.angel in Discord in advance))
URL:https://thecrackden.com/event/triple-dare-date-you/
LOCATION:Lookout Beach
CATEGORIES:Crack Den
ATTACH;FMTTYPE=image/png:https://thecrackden.com/wp-content/uploads/2026/04/ChatGPT-Image-Apr-3-2026-10_08_32-PM.png
END:VEVENT
BEGIN:VEVENT
DTSTART;TZID=America/Los_Angeles:20260507T120000
DTEND;TZID=America/Los_Angeles:20260507T170000
DTSTAMP:20260424T042652
CREATED:20260416T211808Z
LAST-MODIFIED:20260416T211808Z
UID:8690-1778155200-1778173200@thecrackden.com
SUMMARY:Barracudas Bar & Grill and Empire Tattoo presents: Trial of the Tides
DESCRIPTION:—static crackles… a low hum… then a voice cuts through\, rough and controlled— \n“…You’re listening to Backwaters Radio. Got a little announcement for those of you who think you’ve got something worth showing.” Wood creaks as water shifts beneath it. \n“Barracuda’s Bar & Grill alongside Empire Tattoo are putting out a call for the Trial of the Tides.” A pause. Something heavy drops into water somewhere in the distance. “You step up. You perform. You earn the crowd and if you don’t… you take the walk.” A slow creak of wood stretching out over water. “The plank’s waiting. So is everything underneath it” His tone hardens\, edges sharpening. \na soft click is heard then\, like someone leaning into the mic uninvited\, interrupts him before a woman’s voice cuts through the airwave\, “Mmm… now don’a go scaring them all off just yet!” Her voice is warm\, smooth\, dangerously amused as that soft Irish lilt dances on the airwaves\, “Where’s tha fun in tha’?” A faint breath of laughter\, close… intimate into the listeners ear. \n“Sweethearts\, if you’ve got something worth showing… I wanna see it\, sing for me\, tell me a story\, make me laugh\, wow me with your magical talents\, but whatever ya do\, ya gotta make me feel something ta earn your treasure.” \nA long beat drops of silence. \n“And if you don’a achieve it?” A soft creak of wood… closer now. “…well.” Her tone dips\, playful… but there’s something sharp underneath. “I suppose we’ll all enjoy watching ta see if ya can outswim what’s below.” \nThe male exhales a quiet\, almost amused sound\, like he expected her butting in\, “Sign-ups are open. Slots are limited. Talent show begins at 12slt\, May 7th\, 1k (Lindens) on the line for winners!” \nThe female\, softer now\, like a whisper meant for one person\, a sirens song for any bold enough to hear “Come find me. I’ll make sure you’re… properly placed.” A long pause as water laps gently. \nTogether\, his voice low\, hers threaded through it: \n“The swamp keeps what it takes.” \n-static rolls back in… then the music resumes-
URL:https://thecrackden.com/event/barracudas-bar-grill-and-empire-tattoo-presents-trial-of-the-tides-2/
LOCATION:Barracudas Bar & Grill\, Old Shore Rode
CATEGORIES:Backwaters
ATTACH;FMTTYPE=image/png:https://thecrackden.com/wp-content/uploads/2026/04/a4f75d12-98dd-402b-8fc9-7a02c827341e-1.png
END:VEVENT
BEGIN:VEVENT
DTSTART;TZID=America/Los_Angeles:20260502T180000
DTEND;TZID=America/Los_Angeles:20260502T210000
DTSTAMP:20260424T042652
CREATED:20260420T021215Z
LAST-MODIFIED:20260420T073626Z
UID:8733-1777744800-1777755600@thecrackden.com
SUMMARY:Greek Block Party
DESCRIPTION:Join the Campus Greek Houses for a bar-b-que and dance party! We’re taking over the block and this party won’t stop till everyone leaves in a food coma! Feel free to bring a dish to share.
URL:https://thecrackden.com/event/greek-block-part/
LOCATION:CU Sigma Theta Noir\, http://maps.secondlife.com/secondlife/BlackBottom/69/194/34\, Greek Row
CATEGORIES:Columtreal
END:VEVENT
BEGIN:VEVENT
DTSTART;TZID=America/Los_Angeles:20260502T120000
DTEND;TZID=America/Los_Angeles:20260502T150000
DTSTAMP:20260424T042652
CREATED:20260420T020321Z
LAST-MODIFIED:20260420T020321Z
UID:8728-1777723200-1777734000@thecrackden.com
SUMMARY:Swim Team Tryouts
DESCRIPTION:The CU Swim Team is holding their monthly tryouts. Ever wanted to join the team? Wanna get a little off season practice in? Then this is for you!
URL:https://thecrackden.com/event/swim-team-tryouts/
LOCATION:CU Sigma Theta Noir\, http://maps.secondlife.com/secondlife/BlackBottom/69/194/34\, Greek Row
CATEGORIES:Columtreal
END:VEVENT
BEGIN:VEVENT
DTSTART;VALUE=DATE:20260501
DTEND;VALUE=DATE:20260504
DTSTAMP:20260424T042652
CREATED:20260330T105506Z
LAST-MODIFIED:20260330T105812Z
UID:8498-1777593600-1777852799@thecrackden.com
SUMMARY:CU Cheer Championship
DESCRIPTION:Get ready to bring the heat this season at the SL NCAA National Cheer Competition\, where sharp skills\, bright spirit\, and full‑out energy take centre stage. This is your moment to showcase crisp motions\, powerful jumps\, creative choreography\, and that unmistakable varsity confidence. Squads will go head‑to‑head in a high‑energy atmosphere filled with school colours\, spring buzz\, and the kind of electric excitement only a true cheer showdown delivers. Whether you’re aiming for the top spot or stepping onto the mat for the first time\, this competition is your chance to shine\, push your limits\, and celebrate everything you’ve trained for. Bring your spirit\, bring your strength\, and get ready to compete like champions! \nFeaturing: Columtreal University Cheerios\, Woodcrest University Angry Beavers\, Bellisseria Belles\, Eagle Bay\, PSFL Cheer Squad\, St. Elizabeth’s Honeybees\, St. Mary’s Penguins\, The KitCats and Winter’s Gate University Wild Gators \nNOTE: The event is held at the Second Life Intercheer Council’s headquarters\, and features OOC exchanges blended with IC roleplay.
URL:https://thecrackden.com/event/cu-cheer-championship/
LOCATION:Columtreal University
CATEGORIES:Columtreal
ATTACH;FMTTYPE=image/jpeg:https://thecrackden.com/wp-content/uploads/2026/03/Cheer_Nationals_2048.jpg
ORGANIZER;CN="Isabis Bellisserian":MAILTO:isabis@gmx.com
END:VEVENT
BEGIN:VEVENT
DTSTART;VALUE=DATE:20260501
DTEND;VALUE=DATE:20260504
DTSTAMP:20260424T042652
CREATED:20251204T154659Z
LAST-MODIFIED:20260417T192256Z
UID:7249-1777593600-1777852799@thecrackden.com
SUMMARY:The Culling
DESCRIPTION:It’s that time of the year again. \n  \nTBA.
URL:https://thecrackden.com/event/theculling/
CATEGORIES:Backwaters
END:VEVENT
BEGIN:VEVENT
DTSTART;TZID=America/Los_Angeles:20260429T120000
DTEND;TZID=America/Los_Angeles:20260429T140000
DTSTAMP:20260424T042652
CREATED:20260407T205521Z
LAST-MODIFIED:20260407T213406Z
UID:8606-1777464000-1777471200@thecrackden.com
SUMMARY:OOC Stream Night 🍿 Kill Bill: Vol. 2
DESCRIPTION:Have you watched this yet? We did! \nJoin us for a casual OOC stream night. Come make friends\, binge watch\, and have fun! \nThis session: Kill Bill: Vol. 2 🗡️
URL:https://thecrackden.com/event/ooc-stream-night-%f0%9f%8d%bf-kill-bill-vol-2/
LOCATION:BW Welcome Hub
CATEGORIES:OOC
ATTACH;FMTTYPE=image/jpeg:https://thecrackden.com/wp-content/uploads/2026/04/movie-night5.jpg
END:VEVENT
BEGIN:VEVENT
DTSTART;TZID=America/Los_Angeles:20260428T120000
DTEND;TZID=America/Los_Angeles:20260428T140000
DTSTAMP:20260424T042652
CREATED:20260422T224640Z
LAST-MODIFIED:20260422T224640Z
UID:8772-1777377600-1777384800@thecrackden.com
SUMMARY:Conditioning with Coach Nara
DESCRIPTION:Join Coach Nara for a Weight training session.
URL:https://thecrackden.com/event/conditioning-with-coach-nara-19/
CATEGORIES:Columtreal
ORGANIZER;CN="Taellinu Aichi":MAILTO:versluismatthew@gmail.com
END:VEVENT
BEGIN:VEVENT
DTSTART;TZID=America/Los_Angeles:20260427T190000
DTEND;TZID=America/Los_Angeles:20260427T203000
DTSTAMP:20260424T042652
CREATED:20260422T224511Z
LAST-MODIFIED:20260422T224511Z
UID:8768-1777316400-1777321800@thecrackden.com
SUMMARY:Conditioning and Interval Training
DESCRIPTION:Join Coaches Nara and Fawnie for a High Intensity training session.
URL:https://thecrackden.com/event/conditioning-and-interval-training-2/
CATEGORIES:Columtreal
END:VEVENT
BEGIN:VEVENT
DTSTART;TZID=America/Los_Angeles:20260425T120000
DTEND;TZID=America/Los_Angeles:20260425T150000
DTSTAMP:20260424T042652
CREATED:20251204T135547Z
LAST-MODIFIED:20260417T192527Z
UID:7209-1777118400-1777129200@thecrackden.com
SUMMARY:Rave TBA
DESCRIPTION:TBA.
URL:https://thecrackden.com/event/a-rave/
CATEGORIES:Backwaters
END:VEVENT
BEGIN:VEVENT
DTSTART;VALUE=DATE:20260424
DTEND;VALUE=DATE:20260501
DTSTAMP:20260424T042652
CREATED:20260330T104718Z
LAST-MODIFIED:20260330T104718Z
UID:8489-1776988800-1777593599@thecrackden.com
SUMMARY:CU Cheer Camp
DESCRIPTION:Step into spring with Camp Cheertastic that brings fresh energy\, bright colours\, and that unbeatable team‑spirit buzz. This is where athletes sharpen their skills\, learn crisp sideline routines\, master jumps and motion technique\, and build the confidence that defines true varsity style. You’ll grab high‑level training wrapped in a fun\, upbeat atmosphere\, perfect for anyone ready to level up for tryouts or simply fall in love with cheer all over again. With spring sunshine\, campus‑style spirit\, and a showcase that lets every athlete shine\, this camp is your chance to grow stronger\, make new friends\, and feel that electric “let’s go!” momentum that only varsity cheer can deliver. \nFeaturing: Columtreal University Cheerios\, Woodcrest University Angry Beavers\, Bellisseria Belles\, Eagle Bay\, PSFL Cheer Squad\, St. Elizabeth’s Honeybees\, St. Mary’s Penguins\, The KitCats and Winter’s Gate University Wild Gators \nNOTE: The event is held at the Second Life Intercheer Council’s headquarters\, and features OOC clinics blended with IC roleplay.
URL:https://thecrackden.com/event/cu-cheer-camp/
LOCATION:Columtreal University
CATEGORIES:Columtreal
ATTACH;FMTTYPE=image/jpeg:https://thecrackden.com/wp-content/uploads/2026/03/SLIC_Camp_Cheertastic_April_24-May_3_2026.jpg
ORGANIZER;CN="Isabis Bellisserian":MAILTO:isabis@gmx.com
END:VEVENT
BEGIN:VEVENT
DTSTART;TZID=America/Los_Angeles:20260423T110000
DTEND;TZID=America/Los_Angeles:20260423T123000
DTSTAMP:20260424T042652
CREATED:20260419T191339Z
LAST-MODIFIED:20260419T191339Z
UID:8720-1776942000-1776947400@thecrackden.com
SUMMARY:History and Archaeology
DESCRIPTION:History and Archaeology class
URL:https://thecrackden.com/event/history-and-archaeology-7/
LOCATION:Columtreal University
CATEGORIES:Columtreal
END:VEVENT
BEGIN:VEVENT
DTSTART;TZID=America/Los_Angeles:20260423T100000
DTEND;TZID=America/Los_Angeles:20260423T130000
DTSTAMP:20260424T042652
CREATED:20260420T035647Z
LAST-MODIFIED:20260420T035647Z
UID:8738-1776938400-1776949200@thecrackden.com
SUMMARY:CMNF Thursday at Blues
DESCRIPTION:Thursdays are CMNF day at Blues bar in District 8. You all know what CMNF means\, right? If not look it up. So guys\, dress nicely. All girls\, do not dress at all (masks and blindfolds welcome)\, we have a locker outside of course to leave your clothes. The cocktail of the day will be happy hour during the event\, it is named Sex In Public\, a variation of Sex on the Beach. So visit us and let us dance and have a great time\, our staff girls will be happy to read your wishes from your eyes! \nhttps://maps.secondlife.com/secondlife/District%208/232/27/36
URL:https://thecrackden.com/event/cmnf-thursday-at-blues-3/
CATEGORIES:Crack Den
ATTACH;FMTTYPE=image/jpeg:https://thecrackden.com/wp-content/uploads/2026/04/bbteam.jpg
END:VEVENT
BEGIN:VEVENT
DTSTART;TZID=America/Los_Angeles:20260422T130000
DTEND;TZID=America/Los_Angeles:20260422T150000
DTSTAMP:20260424T042652
CREATED:20260422T165035Z
LAST-MODIFIED:20260422T165035Z
UID:8757-1776862800-1776870000@thecrackden.com
SUMMARY:CU Class: Personal Safety In Everyday Life
DESCRIPTION:The world is a little chaotic – and also a pretty wonderful place. This class is for anyone who wants to move through it feeling a little more confident\, a little more aware\, and a whole lot more prepared for whatever comes their way.\n\n\nWe’ll explore practical\, everyday safety\, role of instincts and in general what all falls into the area of personal safety in every day life. We’ll be a little talkative\, little hands-on\, little interactive\, with open conversations\, and workshops that put the learning straight into practice. \nYou know the rules from the last time:\n1. Participation is mandatory for attendance. If you do not want to actively participate\, or disturb the class\, this class is not for you.\n2. No answer and no question is stupid. Ask if you do not understand. Answer if you think you know the answer.\n3. Honesty about weaknesses is non-negotiable. We can’t defeat what we can not acknowledge. \nhttp://maps.secondlife.com/secondlife/Black%20Bottom/139/49/39
URL:https://thecrackden.com/event/cu-class-personal-safety-in-everyday-life-2/
LOCATION:Columtreal University
CATEGORIES:Columtreal
END:VEVENT
BEGIN:VEVENT
DTSTART;TZID=America/Los_Angeles:20260422T120000
DTEND;TZID=America/Los_Angeles:20260422T140000
DTSTAMP:20260424T042652
CREATED:20260407T205150Z
LAST-MODIFIED:20260407T220711Z
UID:8604-1776859200-1776866400@thecrackden.com
SUMMARY:OOC Stream Night 🍿 Kill Bill: Vol. 1
DESCRIPTION:Have you watched this yet? We did! \nJoin us for a casual OOC stream night. Come make friends\, binge watch\, and have fun! \nThis session: Kill Bill: Vol. 1 🗡️
URL:https://thecrackden.com/event/ooc-stream-night-%f0%9f%8d%bf-kill-bill-vol-1/
LOCATION:BW Welcome Hub
CATEGORIES:OOC
ATTACH;FMTTYPE=image/jpeg:https://thecrackden.com/wp-content/uploads/2026/04/movie-night4-1.jpg
END:VEVENT
BEGIN:VEVENT
DTSTART;TZID=America/Los_Angeles:20260421T190000
DTEND;TZID=America/Los_Angeles:20260421T203000
DTSTAMP:20260424T042652
CREATED:20260416T034443Z
LAST-MODIFIED:20260419T004440Z
UID:8681-1776798000-1776803400@thecrackden.com
SUMMARY:Conditioning and Interval Training
DESCRIPTION:Join up with Coaches Nara and Coach Fawnie for a class with a focus on Conditioning and Interval training.  Come prepared to get sweaty\, and to meet our newest and cutest coach!
URL:https://thecrackden.com/event/conditioning-and-interval-training/
CATEGORIES:Columtreal
ORGANIZER;CN="Taellinu Aichi":MAILTO:versluismatthew@gmail.com
END:VEVENT
BEGIN:VEVENT
DTSTART;TZID=America/Los_Angeles:20260421T160000
DTEND;TZID=America/Los_Angeles:20260421T180000
DTSTAMP:20260424T042652
CREATED:20260421T182714Z
LAST-MODIFIED:20260421T182714Z
UID:8745-1776787200-1776794400@thecrackden.com
SUMMARY:Sigma Theta Noir Movie Night!
DESCRIPTION:For totally not-meta reasons\, we will have a showing of Interview with the Vampire at the sorority house tonight!
URL:https://thecrackden.com/event/sigma-theta-noir-movie-night/
LOCATION:CU Sigma Theta Noir\, http://maps.secondlife.com/secondlife/BlackBottom/69/194/34\, Greek Row
CATEGORIES:Columtreal
END:VEVENT
BEGIN:VEVENT
DTSTART;TZID=America/Los_Angeles:20260421T120000
DTEND;TZID=America/Los_Angeles:20260421T140000
DTSTAMP:20260424T042652
CREATED:20260330T112411Z
LAST-MODIFIED:20260402T104419Z
UID:8520-1776772800-1776780000@thecrackden.com
SUMMARY:CU Cheer Practice and Tryouts
DESCRIPTION:Learn new skills in both athletics and dance\, make lifelong friendships\, and grow both personally and academically as part of the legendary Columtreal Cheer Squad. Train with the best and gain influence and popularity on campus as part of a fiercely competitive team. Grab a seat on the bleachers to watch the show or try out if you want to get in on the action. Pom-poms at the ready for another cheerleading adventure!
URL:https://thecrackden.com/event/cu-cheer-practice-and-tryouts-13/
LOCATION:Columtreal University
CATEGORIES:Columtreal
ATTACH;FMTTYPE=image/jpeg:https://thecrackden.com/wp-content/uploads/2026/03/cheerfest2a-2.jpg
ORGANIZER;CN="Isabis Bellisserian":MAILTO:isabis@gmx.com
END:VEVENT
BEGIN:VEVENT
DTSTART;TZID=America/Los_Angeles:20260419T140000
DTEND;TZID=America/Los_Angeles:20260419T180000
DTSTAMP:20260424T042652
CREATED:20260325T221737Z
LAST-MODIFIED:20260419T035804Z
UID:8447-1776607200-1776621600@thecrackden.com
SUMMARY:Yuugen Livestream @ Hathian Motors
DESCRIPTION:A livestream for the city’s entertainment! Come down to Hathian Motors to watch Sin to Win 2.0\, out in front of Hathian Motors.
URL:https://thecrackden.com/event/yuugen-livestream/
CATEGORIES:Crack Den
END:VEVENT
BEGIN:VEVENT
DTSTART;TZID=America/Los_Angeles:20260418T120000
DTEND;TZID=America/Los_Angeles:20260418T150000
DTSTAMP:20260424T042652
CREATED:20251225T174359Z
LAST-MODIFIED:20260406T183836Z
UID:7390-1776513600-1776524400@thecrackden.com
SUMMARY:Reefer Rave
DESCRIPTION:Join your fellow stoners and pot heads for the first annual Reefer Rave\, sponsored by Poison Apple and Lush Leaf. \nStep into the haze and experience a rave the way it was meant to be seen; totally stoned 🌿💨
URL:https://thecrackden.com/event/reefer-rave/
LOCATION:The Plant
CATEGORIES:Crack Den
END:VEVENT
BEGIN:VEVENT
DTSTART;TZID=America/Los_Angeles:20260416T130000
DTEND;TZID=America/Los_Angeles:20260416T150000
DTSTAMP:20260424T042652
CREATED:20260416T180635Z
LAST-MODIFIED:20260416T180635Z
UID:8686-1776344400-1776351600@thecrackden.com
SUMMARY:CU Class: Personal Safety In Everyday Life\, Class 1 re-run
DESCRIPTION:Note: This class is designed for a smaller audience. This is a re-run of the yesterday’s class for those who could not attend. If you already been here\, please leave room for others interested. \nThe world is a little chaotic – and also a pretty wonderful place. This class is for anyone who wants to move through it feeling a little more confident\, a little more aware\, and a whole lot more prepared for whatever comes their way. \nWe’ll explore practical\, everyday safety\, role of instincts and in general what all falls into the area of personal safety in every day life. We’ll be a little talkative\, little hands-on\, little interactive\, with open conversations\, and workshops that put the learning straight into practice
URL:https://thecrackden.com/event/cu-class-personal-safety-in-everyday-life-class-1-re-run/
CATEGORIES:Columtreal
END:VEVENT
BEGIN:VEVENT
DTSTART;TZID=America/Los_Angeles:20260416T100000
DTEND;TZID=America/Los_Angeles:20260416T130000
DTSTAMP:20260424T042652
CREATED:20260406T145408Z
LAST-MODIFIED:20260406T145408Z
UID:8584-1776333600-1776344400@thecrackden.com
SUMMARY:CMNF Thursday at Blues
DESCRIPTION:Thursdays are CMNF day at Blues bar in District 8. You all know what CMNF means\, right? If not look it up. So guys\, dress nicely. All girls\, do not dress at all (masks and blindfolds welcome)\, we have a locker outside of course to leave your clothes. The cocktail of the day will be happy hour during the event\, it is named Sex In Public\, a variation of Sex on the Beach. So visit us and let us dance and have a great time\, our staff girls will be happy to read your wishes from your eyes! \nhttps://maps.secondlife.com/secondlife/District%208/232/27/36
URL:https://thecrackden.com/event/cmnf-thursday-at-blues-2/
CATEGORIES:Crack Den
ATTACH;FMTTYPE=image/jpeg:https://thecrackden.com/wp-content/uploads/2026/04/flier2-1.jpg
END:VEVENT
BEGIN:VEVENT
DTSTART;TZID=America/Los_Angeles:20260415T130000
DTEND;TZID=America/Los_Angeles:20260415T150000
DTSTAMP:20260424T042652
CREATED:20260415T190424Z
LAST-MODIFIED:20260415T190424Z
UID:8676-1776258000-1776265200@thecrackden.com
SUMMARY:CU Class: Personal Safety In Everyday Life
DESCRIPTION:The world is a little chaotic – and also a pretty wonderful place. This class is for anyone who wants to move through it feeling a little more confident\, a little more aware\, and a whole lot more prepared for whatever comes their way. \nWe’ll explore practical\, everyday safety\, role of instincts and in general what all falls into the area of personal safety in every day life. We’ll be a little talkative\, little hands-on\, little interactive\, with open conversations\, and workshops that put the learning straight into practice. \nThis is introductory class\, so pretty much free credit.
URL:https://thecrackden.com/event/cu-class-personal-safety-in-everyday-life/
CATEGORIES:Columtreal
END:VEVENT
END:VCALENDAR