BEGIN:VCALENDAR
VERSION:2.0
PRODID:-//Crack Den - ECPv6.15.20//NONSGML v1.0//EN
CALSCALE:GREGORIAN
METHOD:PUBLISH
X-WR-CALNAME:Crack Den
X-ORIGINAL-URL:https://thecrackden.com
X-WR-CALDESC:Events for Crack Den
REFRESH-INTERVAL;VALUE=DURATION:PT1H
X-Robots-Tag:noindex
X-PUBLISHED-TTL:PT1H
BEGIN:VTIMEZONE
TZID:America/Los_Angeles
BEGIN:DAYLIGHT
TZOFFSETFROM:-0800
TZOFFSETTO:-0700
TZNAME:PDT
DTSTART:20240310T100000
END:DAYLIGHT
BEGIN:STANDARD
TZOFFSETFROM:-0700
TZOFFSETTO:-0800
TZNAME:PST
DTSTART:20241103T090000
END:STANDARD
BEGIN:DAYLIGHT
TZOFFSETFROM:-0800
TZOFFSETTO:-0700
TZNAME:PDT
DTSTART:20250309T100000
END:DAYLIGHT
BEGIN:STANDARD
TZOFFSETFROM:-0700
TZOFFSETTO:-0800
TZNAME:PST
DTSTART:20251102T090000
END:STANDARD
BEGIN:DAYLIGHT
TZOFFSETFROM:-0800
TZOFFSETTO:-0700
TZNAME:PDT
DTSTART:20260308T100000
END:DAYLIGHT
BEGIN:STANDARD
TZOFFSETFROM:-0700
TZOFFSETTO:-0800
TZNAME:PST
DTSTART:20261101T090000
END:STANDARD
END:VTIMEZONE
BEGIN:VEVENT
DTSTART;TZID=America/Los_Angeles:20251223T120000
DTEND;TZID=America/Los_Angeles:20251223T140000
DTSTAMP:20260425T065333
CREATED:20251222T230236Z
LAST-MODIFIED:20251222T230236Z
UID:7376-1766491200-1766498400@thecrackden.com
SUMMARY:Male Dominant Relationships: The Cure for the healthcare burden.
DESCRIPTION:Male Dominant Relationships: The Cure for the healthcare burden. \nLecture by Prof. Carly Cox \nThe dynamics of romantic partnerships have long been studied for their effects on individual health outcomes. While contemporary discourse often emphasizes egalitarianism\, emerging research suggests that relationships with clear male leadership—characterized by decisiveness\, protective behaviors\, and structured responsibility—may correlate with fewer health complications and hospitalizations for both partners. This lecture examines the evidence behind this phenomenon\, drawing from evolutionary psychology\, endocrinology\, and longitudinal epidemiological studies. \nTopics Discussed in this lecture: \n\nEvolutionary Foundations\nStress Reduction\nPsychosocial Mechanism\nConclusion
URL:https://thecrackden.com/event/male-dominant-relationships-the-cure-for-the-healthcare-burden/
CATEGORIES:Columtreal
END:VEVENT
BEGIN:VEVENT
DTSTART;TZID=America/Los_Angeles:20251222T120000
DTEND;TZID=America/Los_Angeles:20251222T140000
DTSTAMP:20260425T065333
CREATED:20251222T074752Z
LAST-MODIFIED:20251222T074752Z
UID:7366-1766404800-1766412000@thecrackden.com
SUMMARY:The Thermodynamics of Fellatio: Mitigating Climate Change
DESCRIPTION:The Thermodynamics of Fellatio: Mitigating Climate Change \nLecture by Professor Carly Cox \nLadies and gentlemen\, in this class we will confront an unconventional yet scientifically grounded proposition: that the strategic application of oral stimulation\, specifically fellatio\, could serve as a viable mechanism for reducing global carbon emissions. While this claim may initially elicit skepticism or amusement\, we shall approach it with the rigor it demands\, examining the biophysical\, behavioral\, and thermodynamic principles at play. \n  \nTopics Discussed in this class: \n\nThe Carbon Footprint of Sexual Activity\nThermodynamic Transfer and Body Heat Redistribution\nBehavioral Economics of Pleasure vs. Consumption\nScalability and Cultural Barriers\nConclusion
URL:https://thecrackden.com/event/the-thermodynamics-of-fellatio-mitigating-climate-change/
CATEGORIES:Columtreal
END:VEVENT
BEGIN:VEVENT
DTSTART;TZID=America/Los_Angeles:20251221T120000
DTEND;TZID=America/Los_Angeles:20251221T140000
DTSTAMP:20260425T065333
CREATED:20251220T075349Z
LAST-MODIFIED:20251220T075349Z
UID:7349-1766318400-1766325600@thecrackden.com
SUMMARY:Business Management 101
DESCRIPTION:Business Management 101 \nLecture by Prof. Carly Cox \nEver fancied managing a busienss of your own on Campus or anywhere else in the city? Then this class is for you. Whether you are the owner or just a manager\, or even an employee looking to get ahead\, this class will supply you with some practical skills you can implement in your business strategy right away. \nToics Include: \n\nHow to create a unique flavor for your business\nHow to market your unique flavor\nManaging employees\nCollaboration with other business owners to enhance your business\n\n 
URL:https://thecrackden.com/event/business-management-101/
CATEGORIES:Columtreal
END:VEVENT
BEGIN:VEVENT
DTSTART;TZID=America/Los_Angeles:20251221T080000
DTEND;TZID=America/Los_Angeles:20251221T130000
DTSTAMP:20260425T065333
CREATED:20251123T211146Z
LAST-MODIFIED:20251123T211146Z
UID:7152-1766304000-1766322000@thecrackden.com
SUMMARY:The Slab Butcher's Retro Rave
DESCRIPTION:What is better than stepping into Christmas with good food? Doing it while dancing to throwback tracks from the 80s and 90s\, and maybe something…..Stranger will happen. \nCome on down to the Slab and dance until your feet turn blue from frostbite!
URL:https://thecrackden.com/event/the-slab-butchers-retro-rave/
LOCATION:The Slab Butcher’s
CATEGORIES:Crack Den
ATTACH;FMTTYPE=image/jpeg:https://thecrackden.com/wp-content/uploads/2025/11/Pink-And-Beige-Colorful-90s-Retro-Party-Invitation.jpg
END:VEVENT
BEGIN:VEVENT
DTSTART;TZID=America/Los_Angeles:20251220T120000
DTEND;TZID=America/Los_Angeles:20251220T160000
DTSTAMP:20260425T065333
CREATED:20251215T025237Z
LAST-MODIFIED:20251220T012712Z
UID:7326-1766232000-1766246400@thecrackden.com
SUMMARY:Bayou Brawls: Santa's Sack Edition
DESCRIPTION:🩸 Bayou Brawls 🩸\n“SANTA’S SACK” EDITION \n📍 Laveau\, Louisiana\n📍 http://maps.secondlife.com/secondlife/Laveau/97/29/1004\n📅 Saturday\, December 20th\n🕛 High Noon \n💀 THIS AIN’T SANCTIONED. THIS AIN’T CLEAN.\nThis is urban carnage in its rawest form.\nWeapon of Choice: Random Weapon Draw \n🔥 MAIN EVENT MATCHES 🔥\n🔥 CHALLENGE MATCHES OPEN AFTER 🔥 \n🎟️ ENTRY: Free – Bet on the matches.\n(Bring cash. Don’t bring cops.) \n  \n[[For any questions\, please contact Kingston Varriale]]
URL:https://thecrackden.com/event/bayou-brawls-santas-sack-edition/
CATEGORIES:Backwaters
ATTACH;FMTTYPE=image/png:https://thecrackden.com/wp-content/uploads/2025/07/BayouBrawlDecember.png
END:VEVENT
BEGIN:VEVENT
DTSTART;TZID=America/Los_Angeles:20251219T110000
DTEND;TZID=America/Los_Angeles:20251219T160000
DTSTAMP:20260425T065333
CREATED:20251211T184000Z
LAST-MODIFIED:20251211T184000Z
UID:7302-1766142000-1766160000@thecrackden.com
SUMMARY:CU Xmas Party at the CU Gym - hosted by Sigma Theta Noir
DESCRIPTION:It’s that time of year for our CU Xmas ball. \nDress festively and come along for the Columtreal University Xmas Party. \nAll welcome.
URL:https://thecrackden.com/event/cu-xmas-party-at-the-cu-gym-hosted-by-sigma-theta-noir/
LOCATION:Columtreal University
CATEGORIES:Columtreal
END:VEVENT
BEGIN:VEVENT
DTSTART;TZID=America/Los_Angeles:20251219T090000
DTEND;TZID=America/Los_Angeles:20251219T110000
DTSTAMP:20260425T065333
CREATED:20251218T184740Z
LAST-MODIFIED:20251218T184740Z
UID:7338-1766134800-1766142000@thecrackden.com
SUMMARY:CU Class - Why Feminism is killing the Human Race
DESCRIPTION:Sociology Lecture by Professor Carly Cox. “The Link Between Egalitarian Ideology and Demographic Collapse” \nTopics Discussed in this lecture (for those that actually want to study:) \n\nThe Fem inish erosion of classic gender roles\nThe Birthrate Crisis (Blaming Feminists)\nEconomic Fallout (Also a Feminist creation)\nFeminist Ideals Clashing with Reality (Duh)\nWhy getting back in the kitchen will save us all!\n\n  \n 
URL:https://thecrackden.com/event/cu-class-why-feminism-is-killing-the-human-race/
LOCATION:Columtreal University
CATEGORIES:Columtreal
END:VEVENT
BEGIN:VEVENT
DTSTART;TZID=America/Los_Angeles:20251217T130000
DTEND;TZID=America/Los_Angeles:20251217T143000
DTSTAMP:20260425T065333
CREATED:20251215T023722Z
LAST-MODIFIED:20251215T023722Z
UID:7321-1765976400-1765981800@thecrackden.com
SUMMARY:Strength and Cheer with Coach Nara and Shilo
DESCRIPTION:Join Coach Nara and Cheer Captain Shilo Casen for a workout focused on cardio\, mobility\, and building a strong core.
URL:https://thecrackden.com/event/strength-and-cheer-with-coach-nara-and-shilo/
CATEGORIES:Columtreal
ORGANIZER;CN="Taellinu Aichi":MAILTO:versluismatthew@gmail.com
END:VEVENT
BEGIN:VEVENT
DTSTART;TZID=America/Los_Angeles:20251215T123000
DTEND;TZID=America/Los_Angeles:20251215T140000
DTSTAMP:20260425T065333
CREATED:20251208T022452Z
LAST-MODIFIED:20251208T022452Z
UID:7286-1765801800-1765807200@thecrackden.com
SUMMARY:CU Looter Cheer Practice/ tryouts
DESCRIPTION:Last Practice of the 2025 season! \nHappy Holidays Y’all \nI expect to see you back after the New Year ready to train hard for Nationals!
URL:https://thecrackden.com/event/cu-looter-cheer-practice-tryouts-10/
LOCATION:Columtreal University
CATEGORIES:Columtreal
END:VEVENT
BEGIN:VEVENT
DTSTART;TZID=America/Los_Angeles:20251215T053000
DTEND;TZID=America/Los_Angeles:20251215T073000
DTSTAMP:20260425T065333
CREATED:20251215T103633Z
LAST-MODIFIED:20251215T103633Z
UID:7328-1765776600-1765783800@thecrackden.com
SUMMARY:Big Breakfast at Get Woke
DESCRIPTION:The Big Breakfast at Get Woke.  Todays special is a Turkey Burger and Cinnamon Hot Chocolate for $5
URL:https://thecrackden.com/event/big-breakfast-at-get-woke-3/
LOCATION:Get Woke
CATEGORIES:Columtreal
END:VEVENT
BEGIN:VEVENT
DTSTART;TZID=America/Los_Angeles:20251213T120000
DTEND;TZID=America/Los_Angeles:20251213T140000
DTSTAMP:20260425T065333
CREATED:20250602T165712Z
LAST-MODIFIED:20251212T013335Z
UID:4224-1765627200-1765634400@thecrackden.com
SUMMARY:OOC Alterscape Holiday Party
DESCRIPTION:It’s that time of the year again! Slip into festive gear and come hang out with us for our annual and last OOC party of the year! And hey\, there might just be some lindens flying about. We can’t wait to see you again besties.  \nTunes by yours truly\, Propane Rage \n Saturday\, December 13th from 12 PM – 2 PM SLT \n http://maps.secondlife.com/secondlife/District%208/181/155/3001
URL:https://thecrackden.com/event/ooc-alterscape-holiday-party/
CATEGORIES:Backwaters,Columtreal,Crack Den
ATTACH;FMTTYPE=image/png:https://thecrackden.com/wp-content/uploads/2025/06/alterscape-holiday-party-25.png
END:VEVENT
BEGIN:VEVENT
DTSTART;TZID=America/Los_Angeles:20251212T123000
DTEND;TZID=America/Los_Angeles:20251212T143000
DTSTAMP:20260425T065333
CREATED:20251201T131827Z
LAST-MODIFIED:20251201T132130Z
UID:7197-1765542600-1765549800@thecrackden.com
SUMMARY:Bake It Till You Make It!: Marketing
DESCRIPTION:In the Bake It Till You Make It! course\, students will learn skills related to the preparation of recipes they can use as a source of extra income. In the fifth class\, they’ll be taught how to advertise their products. Join professor Helena Queiroz Portela on December 12th at 12:30 P.M. and get marketing!
URL:https://thecrackden.com/event/bake-it-till-you-make-it-marketing/
LOCATION:Columtreal University
CATEGORIES:Columtreal
END:VEVENT
BEGIN:VEVENT
DTSTART;TZID=America/Los_Angeles:20251211T110000
DTEND;TZID=America/Los_Angeles:20251211T133000
DTSTAMP:20260425T065333
CREATED:20251209T195507Z
LAST-MODIFIED:20251209T195507Z
UID:7296-1765450800-1765459800@thecrackden.com
SUMMARY:Music with Buffy
DESCRIPTION:The Final Exam will be….a music pop quiz.
URL:https://thecrackden.com/event/music-with-buffy-6/
LOCATION:Columtreal University
CATEGORIES:Columtreal
END:VEVENT
BEGIN:VEVENT
DTSTART;TZID=America/Los_Angeles:20251210T130000
DTEND;TZID=America/Los_Angeles:20251210T150000
DTSTAMP:20260425T065333
CREATED:20251206T214354Z
LAST-MODIFIED:20251206T214354Z
UID:7269-1765371600-1765378800@thecrackden.com
SUMMARY:Black Thorn Gentlemen's Club - Grand Opening!
DESCRIPTION:✨ GRAND OPENING ✨\nStep into a realm where elegance meets desire. \nJoin us for the official unveiling of Black Thorn Gentlemen’s Club\, a refined sanctuary for BDSM\, decadence\, and dark sophistication. \n\n\n\nEvent Highlights\n\nThe Thorn Trials: Interactive opt-in challenges\nLive Demonstrations throughout the club\nBlack Thorn Membership Sign-up\nFree Drinks and Prizes\nNaughty Raffle\, and more…\n\n\n\n\nDress Code: Dark Cocktail & Sharp Suits\nTailored suits\, cocktail dresses\, elegant evening wear.\nSeductive. Stylish. Uncompromising. \n\n\n\nWhat Awaits You\n\nSignature cocktails\nVIP lounges\nPrivate rooms for exploration\nConsent-forward staff and monitors
URL:https://thecrackden.com/event/black-thorn-gentlemens-club-grand-opening/
CATEGORIES:Backwaters
ORGANIZER;CN="Jordan Russo":MAILTO:jordanrusso94@gmail.com
END:VEVENT
BEGIN:VEVENT
DTSTART;TZID=America/Los_Angeles:20251209T163000
DTEND;TZID=America/Los_Angeles:20251209T173000
DTSTAMP:20260425T065333
CREATED:20251201T124917Z
LAST-MODIFIED:20251201T124917Z
UID:7193-1765297800-1765301400@thecrackden.com
SUMMARY:Conditioning with Coach Nara
DESCRIPTION:Work off those holiday pounds with a PM session with coach Nara
URL:https://thecrackden.com/event/conditioning-with-coach-nara-6/
LOCATION:Columtreal University
CATEGORIES:Columtreal
ORGANIZER;CN="Taellinu Aichi":MAILTO:versluismatthew@gmail.com
END:VEVENT
BEGIN:VEVENT
DTSTART;TZID=America/Los_Angeles:20251209T100000
DTEND;TZID=America/Los_Angeles:20251209T230000
DTSTAMP:20260425T065333
CREATED:20251201T124735Z
LAST-MODIFIED:20251201T124735Z
UID:7189-1765274400-1765321200@thecrackden.com
SUMMARY:Conditioning with Coach Nara
DESCRIPTION:Get in a workout with coach Nara. Time to work off those holiday pounds in he Gymnasium!
URL:https://thecrackden.com/event/conditioning-with-coach-nara-5/
LOCATION:Columtreal University
CATEGORIES:Columtreal
ORGANIZER;CN="Taellinu Aichi":MAILTO:versluismatthew@gmail.com
END:VEVENT
BEGIN:VEVENT
DTSTART;TZID=America/Los_Angeles:20251208T123000
DTEND;TZID=America/Los_Angeles:20251208T140000
DTSTAMP:20260425T065333
CREATED:20251208T022227Z
LAST-MODIFIED:20251208T022227Z
UID:7282-1765197000-1765202400@thecrackden.com
SUMMARY:CU Looter Cheer Practice/ tryouts
DESCRIPTION:Cheer Practice & Open tryouts! \nCome down to the field for the last two practices of the 2025 season!
URL:https://thecrackden.com/event/cu-looter-cheer-practice-tryouts-9/
LOCATION:Columtreal University
CATEGORIES:Columtreal
END:VEVENT
BEGIN:VEVENT
DTSTART;TZID=America/Los_Angeles:20251208T053000
DTEND;TZID=America/Los_Angeles:20251208T183000
DTSTAMP:20260425T065333
CREATED:20251208T100103Z
LAST-MODIFIED:20251208T100103Z
UID:7290-1765171800-1765218600@thecrackden.com
SUMMARY:Big Breakfast at Get Woke
DESCRIPTION:Come along to Get Woke for breakfast; todays special is a festive breakfast muffin.  Turkey\, eggs\, sausage\, bacon and grits and our festive Cinammon hot chocolate.
URL:https://thecrackden.com/event/big-breakfast-at-get-woke-2/
LOCATION:Get Woke
CATEGORIES:Columtreal
END:VEVENT
BEGIN:VEVENT
DTSTART;TZID=America/Los_Angeles:20251206T130000
DTEND;TZID=America/Los_Angeles:20251206T160000
DTSTAMP:20260425T065333
CREATED:20251205T224708Z
LAST-MODIFIED:20251205T224708Z
UID:7262-1765026000-1765036800@thecrackden.com
SUMMARY:Sexy Santa Night at Sigma Theta Noir
DESCRIPTION:Head on down to the CU Campus for sexy santa night at Sigma Theta Noir.  1pm slt Saturday 6th December.
URL:https://thecrackden.com/event/sexy-santa-night-at-sigma-theta-noir/
CATEGORIES:Columtreal
ATTACH;FMTTYPE=image/jpeg:https://thecrackden.com/wp-content/uploads/2025/12/Sexy-Santa-Night.jpg
END:VEVENT
BEGIN:VEVENT
DTSTART;TZID=America/Los_Angeles:20251205T130000
DTEND;TZID=America/Los_Angeles:20251205T160000
DTSTAMP:20260425T065333
CREATED:20251124T222821Z
LAST-MODIFIED:20251124T222821Z
UID:7163-1764939600-1764950400@thecrackden.com
SUMMARY:Krampus Ball at Forge
DESCRIPTION:Come and join us all you merry monsters to determine who’s been good this year\, and who’s been very\, very bad? Let Krampus decide! Come partake of a formal masked ball\, dressed in your finery. With specialty drinks\, enter the Naughty List\, dare to sit on Krampus’ Throne & More!
URL:https://thecrackden.com/event/krampus-ball-at-forge/
LOCATION:Forge – Bastille\, Port Laveau
CATEGORIES:Backwaters
END:VEVENT
BEGIN:VEVENT
DTSTART;TZID=America/Los_Angeles:20251202T123000
DTEND;TZID=America/Los_Angeles:20251202T140000
DTSTAMP:20260425T065333
CREATED:20251202T011008Z
LAST-MODIFIED:20251202T011008Z
UID:7201-1764678600-1764684000@thecrackden.com
SUMMARY:CU Looter Cheer Practice/ tryouts
DESCRIPTION:Open Practice and cheer tryouts \nCU field
URL:https://thecrackden.com/event/cu-looter-cheer-practice-tryouts-8/
LOCATION:Columtreal University
CATEGORIES:Columtreal
END:VEVENT
BEGIN:VEVENT
DTSTART;TZID=America/Los_Angeles:20251130T100000
DTEND;TZID=America/Los_Angeles:20251130T120000
DTSTAMP:20260425T065333
CREATED:20251027T151402Z
LAST-MODIFIED:20251027T151402Z
UID:7034-1764496800-1764504000@thecrackden.com
SUMMARY:OOC Workshop - Combat Class
DESCRIPTION:Last ooc workshop for November – Join our mentors for a combat refresher\, which will go over basic guidelines as well as any questions you may have in a less lecture hall style approach and more round table discussion and debate on the area’s between the known sim rules. \nhttp://maps.secondlife.com/secondlife/Devils%20Pocket/237/243/35
URL:https://thecrackden.com/event/ooc-workshop-combat-class-2/
LOCATION:The Plant
CATEGORIES:Crack Den,Workshop
END:VEVENT
BEGIN:VEVENT
DTSTART;TZID=America/Los_Angeles:20251129T120000
DTEND;TZID=America/Los_Angeles:20251129T160000
DTSTAMP:20260425T065333
CREATED:20250719T160801Z
LAST-MODIFIED:20251125T213241Z
UID:6031-1764417600-1764432000@thecrackden.com
SUMMARY:Bayou Brawls: Shanksgiving Edition
DESCRIPTION:🩸 Bayou Brawls 🩸\n“SHANKSGIVING” EDITION \n📍 Laveau\, Louisiana\n📍 http://maps.secondlife.com/secondlife/Laveau/95/29/1004\n📅 Saturday\, November 29th\n🕛 High Noon \n💀 THIS AIN’T SANCTIONED. THIS AIN’T CLEAN.\nThis is urban carnage in its rawest form.\nWeapon of Choice: Knives \n🔥 MAIN EVENT MATCHES 🔥\n🔥 CHALLENGE MATCHES OPEN AFTER 🔥 \n🎟️ ENTRY: Free – Bet on the matches.\n(Bring cash. Don’t bring cops.) \n🩸 No Gloves. No Rules. \n  \n[[For any questions\, please contact Kingston Varriale]]
URL:https://thecrackden.com/event/bayou-brawls-shanksgiving/
CATEGORIES:Backwaters
ATTACH;FMTTYPE=image/jpeg:https://thecrackden.com/wp-content/uploads/2025/07/shanksgiving.jpg
END:VEVENT
BEGIN:VEVENT
DTSTART;TZID=America/Los_Angeles:20251128T140000
DTEND;TZID=America/Los_Angeles:20251128T180000
DTSTAMP:20260425T065333
CREATED:20251124T221555Z
LAST-MODIFIED:20251124T221555Z
UID:7165-1764338400-1764352800@thecrackden.com
SUMMARY:CU Games Night
DESCRIPTION:CU Looters taking over upstairs in the DEA frat house\, Playstation\, Xbox\, handheld\, PC\, maybe Cards Against Humanity too.\nBring your eddies\, chooms.\nFor those who come after.\nPlace of power\, got to be.
URL:https://thecrackden.com/event/cu-games-night/
LOCATION:Columtreal University
CATEGORIES:Columtreal
ATTACH;FMTTYPE=image/png:https://thecrackden.com/wp-content/uploads/2025/11/CU-games-night-28-Nov-2025.png
END:VEVENT
BEGIN:VEVENT
DTSTART;VALUE=DATE:20251128
DTEND;VALUE=DATE:20251129
DTSTAMP:20260425T065333
CREATED:20251117T170228Z
LAST-MODIFIED:20251117T170228Z
UID:7099-1764288000-1764374399@thecrackden.com
SUMMARY:XXX Black Friday Sale
DESCRIPTION:Prepare for the festive season with our annual Black Friday sale at the XXX Shop of Hathian! There’s 50% off everything in the store for one day only. From kinky toys to daring lingerie\, saucy movies to thrilling furniture\, and all the sensual accessories you can dream off\, there’s something for everyone. So\, come on down to the XXX Shop for the deal of the year!
URL:https://thecrackden.com/event/xxx-black-friday-sale/
LOCATION:XXX Shop of Hathian\, Bourbon Street\, Hathian
CATEGORIES:Crack Den
ATTACH;FMTTYPE=image/jpeg:https://thecrackden.com/wp-content/uploads/2025/11/friday.jpg
END:VEVENT
BEGIN:VEVENT
DTSTART;TZID=America/Los_Angeles:20251127T160000
DTEND;TZID=America/Los_Angeles:20251127T180000
DTSTAMP:20260425T065333
CREATED:20251122T140537Z
LAST-MODIFIED:20251122T140537Z
UID:7135-1764259200-1764266400@thecrackden.com
SUMMARY:Murphys Irish Pub-Thanksgiving Buffet
DESCRIPTION:Join us thursday evening for food\, drinks & good tunes as we celebrate the Native Americans not letting the pilgrims starve. \nRegular Menu options\, Happy Hour Specials\, 2 for 1 drinks (excludes top shelf liquor) \nand our first ever Thanksgiving feast buffet! \nFree drinks for anyone that brings a dessert\, that also excludes top shelf liquor. \n 
URL:https://thecrackden.com/event/murphys-irish-pub-thanksgiving-buffet/
LOCATION:Columtreal University
CATEGORIES:Columtreal,Welcome
END:VEVENT
BEGIN:VEVENT
DTSTART;TZID=America/Los_Angeles:20251124T120000
DTEND;TZID=America/Los_Angeles:20251124T133000
DTSTAMP:20260425T065333
CREATED:20251122T135856Z
LAST-MODIFIED:20251122T140631Z
UID:7130-1763985600-1763991000@thecrackden.com
SUMMARY:CU Looter Cheer Practice/ tryouts
DESCRIPTION:Cheer Practice on the Field! \nOpen Tryouts! \n  \n 
URL:https://thecrackden.com/event/cu-looter-cheer-practice-tryouts-7/
LOCATION:Columtreal University
CATEGORIES:Columtreal,Welcome
ATTACH;FMTTYPE=image/png:https://thecrackden.com/wp-content/uploads/2025/11/CU-Cheerios-Logo-2025.png
END:VEVENT
BEGIN:VEVENT
DTSTART;TZID=America/Los_Angeles:20251123T150000
DTEND;TZID=America/Los_Angeles:20251123T173000
DTSTAMP:20260425T065333
CREATED:20251107T011922Z
LAST-MODIFIED:20251107T012635Z
UID:7071-1763910000-1763919000@thecrackden.com
SUMMARY:Super Chopsticks Cosplay Event @Super Chopsticks on CU Campus
DESCRIPTION:Super Chopsticks Presents: Cosplay Event Location: Super Chopsticks CU Campus\, Theme: Cosplay\, dress as your favorite character from video game/Show/Movie. Date and Time: Sunday\, November 23rd\, 2025 at 3 PM SLT. There will be a range of Sake available as well as Japanese food.
URL:https://thecrackden.com/event/super-chopsticks-cosplay-event-super-chopsticks-on-cu-campus-2/
LOCATION:CU Super Chopsticks
CATEGORIES:Columtreal
END:VEVENT
BEGIN:VEVENT
DTSTART;TZID=America/Los_Angeles:20251123T100000
DTEND;TZID=America/Los_Angeles:20251123T140000
DTSTAMP:20260425T065333
CREATED:20251107T063032Z
LAST-MODIFIED:20251120T210343Z
UID:7081-1763892000-1763906400@thecrackden.com
SUMMARY:Thanksgiving Party
DESCRIPTION:It’s back! The Slab Butcher’s Thanksgiving Party! \nPlenty of turkey\, soup\, pumpkin pie and apple cider to go around! \nCome on down to the Slab Butcher’s and bring your loved ones\, or\, come alone. Everyone is welcome!
URL:https://thecrackden.com/event/thanksgiving-party/
LOCATION:The Slab Butcher’s
CATEGORIES:Crack Den
ATTACH;FMTTYPE=image/jpeg:https://thecrackden.com/wp-content/uploads/2025/11/the-slab-butchers-presents-1.jpg
END:VEVENT
BEGIN:VEVENT
DTSTART;TZID=America/Los_Angeles:20251122T120000
DTEND;TZID=America/Los_Angeles:20251122T150000
DTSTAMP:20260425T065333
CREATED:20250911T170131Z
LAST-MODIFIED:20251118T172051Z
UID:6733-1763812800-1763823600@thecrackden.com
SUMMARY:The Vault Grand Re-Opening
DESCRIPTION:The Vault \nBrings You the Them of \nThe Wizard of OZ \nFancy Dress is optional
URL:https://thecrackden.com/event/the-vault-grand-re-opening/
LOCATION:The Vault
CATEGORIES:Backwaters
END:VEVENT
END:VCALENDAR