BEGIN:VCALENDAR
VERSION:2.0
PRODID:-//Crack Den - ECPv6.15.20//NONSGML v1.0//EN
CALSCALE:GREGORIAN
METHOD:PUBLISH
X-WR-CALNAME:Crack Den
X-ORIGINAL-URL:https://thecrackden.com
X-WR-CALDESC:Events for Crack Den
REFRESH-INTERVAL;VALUE=DURATION:PT1H
X-Robots-Tag:noindex
X-PUBLISHED-TTL:PT1H
BEGIN:VTIMEZONE
TZID:America/Los_Angeles
BEGIN:DAYLIGHT
TZOFFSETFROM:-0800
TZOFFSETTO:-0700
TZNAME:PDT
DTSTART:20250309T100000
END:DAYLIGHT
BEGIN:STANDARD
TZOFFSETFROM:-0700
TZOFFSETTO:-0800
TZNAME:PST
DTSTART:20251102T090000
END:STANDARD
BEGIN:DAYLIGHT
TZOFFSETFROM:-0800
TZOFFSETTO:-0700
TZNAME:PDT
DTSTART:20260308T100000
END:DAYLIGHT
BEGIN:STANDARD
TZOFFSETFROM:-0700
TZOFFSETTO:-0800
TZNAME:PST
DTSTART:20261101T090000
END:STANDARD
BEGIN:DAYLIGHT
TZOFFSETFROM:-0800
TZOFFSETTO:-0700
TZNAME:PDT
DTSTART:20270314T100000
END:DAYLIGHT
BEGIN:STANDARD
TZOFFSETFROM:-0700
TZOFFSETTO:-0800
TZNAME:PST
DTSTART:20271107T090000
END:STANDARD
END:VTIMEZONE
BEGIN:VEVENT
DTSTART;TZID=America/Los_Angeles:20260222T130000
DTEND;TZID=America/Los_Angeles:20260222T143000
DTSTAMP:20260424T194603
CREATED:20260219T160140Z
LAST-MODIFIED:20260219T160140Z
UID:8034-1771765200-1771770600@thecrackden.com
SUMMARY:Conditioning with Coach Nara
DESCRIPTION:Meet up with Coach Nara on the field for a fun cardio session.
URL:https://thecrackden.com/event/conditioning-with-coach-nara-15/
CATEGORIES:Columtreal
ORGANIZER;CN="Taellinu Aichi":MAILTO:versluismatthew@gmail.com
END:VEVENT
BEGIN:VEVENT
DTSTART;TZID=America/Los_Angeles:20260222T120000
DTEND;TZID=America/Los_Angeles:20260222T180000
DTSTAMP:20260424T194603
CREATED:20260124T235348Z
LAST-MODIFIED:20260124T235401Z
UID:7686-1771761600-1771783200@thecrackden.com
SUMMARY:My Bloody Valentine Block Party
DESCRIPTION:The Vudu Spice Shop\, The Clam and Kei’s Beauty Salon presents… \nMy Bloody Valentine Block Party!  Let’s celebrate Lascivious Lust & Love! \nCome join us for music\, dancing\, laughter\, contests and more! Ample food and beverage available\, along with all the usual party favors. Dress in theme to win the title of Mr. or Ms. Bloody Valentine!
URL:https://thecrackden.com/event/my-bloody-valentine-block-party/
CATEGORIES:Crack Den
ATTACH;FMTTYPE=image/png:https://thecrackden.com/wp-content/uploads/2026/01/MyBloodyValentineFinal-1.png
END:VEVENT
BEGIN:VEVENT
DTSTART;TZID=America/Los_Angeles:20260221T110000
DTEND;TZID=America/Los_Angeles:20260221T123000
DTSTAMP:20260424T194603
CREATED:20260202T000829Z
LAST-MODIFIED:20260202T000829Z
UID:7797-1771671600-1771677000@thecrackden.com
SUMMARY:OOC Combat Class
DESCRIPTION:OOC Combat class – join us!
URL:https://thecrackden.com/event/ooc-combat-class-2/
LOCATION:The Plant
CATEGORIES:Workshop
END:VEVENT
BEGIN:VEVENT
DTSTART;VALUE=DATE:20260220
DTEND;VALUE=DATE:20260221
DTSTAMP:20260424T194603
CREATED:20251204T140644Z
LAST-MODIFIED:20260219T185451Z
UID:7215-1771545600-1771631999@thecrackden.com
SUMMARY:Laveau Mardi Gras 2026
DESCRIPTION:We’re not quite done with the Mardi Gras celebrations! Join us tomorrow in Laveau for the annual street party. Get boozed up\, throw beads\, shake your ass and have a day of letting loose before we pass the baton to Hathian next week! \nWe’ve got kissing booths\, crawfish boils\, bedazzled strippers – see you there bestie? \n  \n  ► Friday\, February 20th from 11 AM – until we’re partied out  \n► DJ sets from 12 PM SLT  \n► SLURL – TBA
URL:https://thecrackden.com/event/mardi-gras-2026/
CATEGORIES:Backwaters
ATTACH;FMTTYPE=image/png:https://thecrackden.com/wp-content/uploads/2025/12/Mardi-Gras-2026.png
END:VEVENT
BEGIN:VEVENT
DTSTART;TZID=America/Los_Angeles:20260219T110000
DTEND;TZID=America/Los_Angeles:20260219T123000
DTSTAMP:20260424T194603
CREATED:20260218T215245Z
LAST-MODIFIED:20260218T215245Z
UID:8020-1771498800-1771504200@thecrackden.com
SUMMARY:Gymnastics and Dance
DESCRIPTION:Gymnastics and Dance with Kara
URL:https://thecrackden.com/event/gymnastics-and-dance-2/
LOCATION:Columtreal University
CATEGORIES:Columtreal
END:VEVENT
BEGIN:VEVENT
DTSTART;TZID=America/Los_Angeles:20260217T110000
DTEND;TZID=America/Los_Angeles:20260217T150000
DTSTAMP:20260424T194603
CREATED:20260215T211603Z
LAST-MODIFIED:20260215T224306Z
UID:7992-1771326000-1771340400@thecrackden.com
SUMMARY:CU Fat Tuesday – a CU Mardis Gras
DESCRIPTION:11am to 3pm – CU hosts its own carnival celebration at the playing fields.
URL:https://thecrackden.com/event/cheerleading/
LOCATION:Columtreal University
CATEGORIES:Columtreal
END:VEVENT
BEGIN:VEVENT
DTSTART;VALUE=DATE:20260216
DTEND;VALUE=DATE:20260217
DTSTAMP:20260424T194603
CREATED:20260129T032041Z
LAST-MODIFIED:20260203T182715Z
UID:7724-1771200000-1771286399@thecrackden.com
SUMMARY:💘🩸 BLOOD DRIVE AT THE CLAM 🩸💘
DESCRIPTION:💘🩸 BLOOD DRIVE AT THE CLAM 🩸💘 \nShare the love. Save a life. \n  \nThis Valentine’s Day\, give the gift that really comes from the heart… \nYOUR BLOOD ❤️ \n  \n📍 Location: The Clam \n📅 Date: [Monday\, February 16th] \n⏰ Time: [All Day!] \n  \n🫀 Every donation can help save up to 3 lives! \n🍪 Snacks & refreshments provided \n💕 Bring a friend — donate together! \n  \nWalk-ins welcome!
URL:https://thecrackden.com/event/blood-drive-at-the-clam/
CATEGORIES:Crack Den
ATTACH;FMTTYPE=image/png:https://thecrackden.com/wp-content/uploads/2026/01/e78b080e-681b-48bd-a5a6-1aecf803387d.png
END:VEVENT
BEGIN:VEVENT
DTSTART;TZID=America/Los_Angeles:20260215T130000
DTEND;TZID=America/Los_Angeles:20260215T160000
DTSTAMP:20260424T194603
CREATED:20260209T033840Z
LAST-MODIFIED:20260213T041147Z
UID:7887-1771160400-1771171200@thecrackden.com
SUMMARY:Hot Beats Grand Opening
DESCRIPTION:Come join us for the grand opening of Hot Beats \nEnjoy free drinks and food (catered by Flamin’ Cajun) \nThe famous DJ Poppy spinning the beats. \nEver dream of cutting an album? Want to showcase your art work? This is the place for you.\nAll are welcome to check out the studios and have some fun. \nTaxi is here: http://maps.secondlife.com/secondlife/Black%20Bottom/232/147/34
URL:https://thecrackden.com/event/hot-beats-grand-opening/
CATEGORIES:Columtreal,Crack Den
END:VEVENT
BEGIN:VEVENT
DTSTART;TZID=America/Los_Angeles:20260214T160000
DTEND;TZID=America/Los_Angeles:20260214T220000
DTSTAMP:20260424T194603
CREATED:20260130T202530Z
LAST-MODIFIED:20260131T010243Z
UID:7760-1771084800-1771106400@thecrackden.com
SUMMARY:💔🔥 PERVS & PAJAMAS: Tempted & Taken🔥💔
DESCRIPTION:Barracudas Bar & Grill and Starlust Motel presents:\n💔🔥 PERVS & PAJAMAS: VALENTINE’S NIGHT TEMPTED & TAKEN🔥💔 \nat Barracuda’s Bar & Grill Valentines night \nYou played fates games during Single & Sinning\, now lets see what trouble we can get into when temptation takes hold and Cupid’s drunk. Your pajamas are illegal. And shame is not on the guest list. \nThis Valentine’s night\, slip into your sexiest lingerie\, barely-there silks\, or filthiest pajamas and crawl into Barra’s for a night that absolutely does not love you back gently. \nWe’re talking:\n🖤 Naughty adult games in secluded tents\n🖤 Lewd laughs\, bad decisions\, worse intentions\n🖤 Flirting like you mean it\n🖤 Eye contact that should be a crime\n🖤 Pajamas that definitely weren’t made for sleeping\n🖤 Motel Room for those wanting a bit more privacy\n🖤 Naughty treats to get the mood going 😉 \nTaken but It’s complicated?\nPerfect. We thrive in the mess. \nCome be wanted\, watched\, and just a little bit ruined.\nBecause staying home on Valentine’s is for cowards…\nand you didn’t survive this long to behave now. \n💋 Dress down. Act up. Play dirty.\n💀 Miss it\, and suffer the eternal regret of knowing you chose wrong.
URL:https://thecrackden.com/event/%f0%9f%92%94%f0%9f%94%a5-pervs-pajamas-valentines-night-couples-%f0%9f%94%a5%f0%9f%92%94/
LOCATION:Barracudas Bar & Grill\, Old Shore Rode
CATEGORIES:Backwaters
ATTACH;FMTTYPE=image/png:https://thecrackden.com/wp-content/uploads/2026/01/ChatGPT-Image-Jan-30-2026-06_58_06-PM.png
END:VEVENT
BEGIN:VEVENT
DTSTART;TZID=America/Los_Angeles:20260214T130000
DTEND;TZID=America/Los_Angeles:20260214T170000
DTSTAMP:20260424T194603
CREATED:20260206T061215Z
LAST-MODIFIED:20260206T061215Z
UID:7840-1771074000-1771088400@thecrackden.com
SUMMARY:A Suits & Lingerie Valentine's Day Party
DESCRIPTION:Ladies\, bring out those stockings and heels\, and gents\, let’s see you at your most dapper…or the inverse.  Whether you’re all about the puppy love or would rather call it VD Day\, Sigma Theta Noir is throwing a stylish bash on the 14th!  See you there…
URL:https://thecrackden.com/event/a-suits-lingerie-valentines-day-party/
LOCATION:CU Sigma Theta Noir\, http://maps.secondlife.com/secondlife/BlackBottom/69/194/34\, Greek Row
CATEGORIES:Columtreal
ATTACH;FMTTYPE=image/png:https://thecrackden.com/wp-content/uploads/2026/02/Lingerie-Party.png
END:VEVENT
BEGIN:VEVENT
DTSTART;TZID=America/Los_Angeles:20260214T090000
DTEND;TZID=America/Los_Angeles:20260214T103000
DTSTAMP:20260424T194603
CREATED:20260207T022131Z
LAST-MODIFIED:20260207T022131Z
UID:7875-1771059600-1771065000@thecrackden.com
SUMMARY:Conditioning with Coach Nara
DESCRIPTION:Go for a run with Coach Nara on the track with laps and weights.
URL:https://thecrackden.com/event/conditioning-with-coach-nara-12/
LOCATION:Columtreal University
CATEGORIES:Columtreal
ORGANIZER;CN="Taellinu Aichi":MAILTO:versluismatthew@gmail.com
END:VEVENT
BEGIN:VEVENT
DTSTART;VALUE=DATE:20260214
DTEND;VALUE=DATE:20260216
DTSTAMP:20260424T194603
CREATED:20260106T133715Z
LAST-MODIFIED:20260106T133715Z
UID:7463-1771027200-1771199999@thecrackden.com
SUMMARY:Do or Die Valentine Sim Plot
DESCRIPTION:Information will be learned ICly and in-world during the two-day event. This will not be known ICly until then. Look for posts in CD Citizens\, Discord\, and social media.
URL:https://thecrackden.com/event/do-or-die-valentine-sim-plot/
CATEGORIES:Crack Den
END:VEVENT
BEGIN:VEVENT
DTSTART;VALUE=DATE:20260214
DTEND;VALUE=DATE:20260215
DTSTAMP:20260424T194603
CREATED:20260209T190847Z
LAST-MODIFIED:20260209T190847Z
UID:7915-1771027200-1771113599@thecrackden.com
SUMMARY:Flamin' Cajun VD Special
DESCRIPTION:Want to impress your significant other? Or just hoping to get laid? \nBring that special someone over to Flamin’ Cajun – Hathian’s number one  restaurant in town for an exquisite themed Valentine’s Day menu all day long. \nUnlimited champagne and complimentry roses with every meal. \nPrix Fixe @$45 per couple ((IC only no lindens)) \nMain courses to desserts your taste buds will bring out the inner lustful beast we all know you are \n((OOC – feel free to utilize the space at anytime during the day – NPC staff is on hand if no one is actively around to RP))
URL:https://thecrackden.com/event/flamin-cajun-vd-special/
CATEGORIES:Crack Den,Welcome
ATTACH;FMTTYPE=image/png:https://thecrackden.com/wp-content/uploads/2026/02/vdflam.png
END:VEVENT
BEGIN:VEVENT
DTSTART;TZID=America/Los_Angeles:20260213T133000
DTEND;TZID=America/Los_Angeles:20260213T150000
DTSTAMP:20260424T194603
CREATED:20260207T015943Z
LAST-MODIFIED:20260208T001922Z
UID:7871-1770989400-1770994800@thecrackden.com
SUMMARY:Phys Ed with Coach Nara
DESCRIPTION:Come for a casual lecture and discussion on the basics of training. We’ll discuss how and why to train\, as well as the basics of nutrution.
URL:https://thecrackden.com/event/conditioning-with-coach-nara-11/
CATEGORIES:Columtreal
ORGANIZER;CN="Taellinu Aichi":MAILTO:versluismatthew@gmail.com
END:VEVENT
BEGIN:VEVENT
DTSTART;TZID=America/Los_Angeles:20260213T120000
DTEND;TZID=America/Los_Angeles:20260213T160000
DTSTAMP:20260424T194603
CREATED:20251219T023030Z
LAST-MODIFIED:20260102T111231Z
UID:7343-1770984000-1770998400@thecrackden.com
SUMMARY:Blackout Valentine Party
DESCRIPTION:Turn the lights off! Glow in the dark with a blacklight theme to celebrate Valentine’s Day. \nGames first\, music after. Paintball\, Dare or Punishment challenge\, kissing booth\, glowsticks\, alcohol\, and dance until you drop before the light of dawn. \nFree absinthe shots; regular price for all other alcoholic beverages. \nSee you there. \n\nTen No Kage
URL:https://thecrackden.com/event/blackout-valentine-party/
LOCATION:The Plant
CATEGORIES:Crack Den
ATTACH;FMTTYPE=image/png:https://thecrackden.com/wp-content/uploads/2025/12/Blackout-Valentine-Party-Poster-1.png
END:VEVENT
BEGIN:VEVENT
DTSTART;TZID=America/Los_Angeles:20260211T120000
DTEND;TZID=America/Los_Angeles:20260211T230000
DTSTAMP:20260424T194603
CREATED:20260130T205303Z
LAST-MODIFIED:20260131T010103Z
UID:7766-1770811200-1770850800@thecrackden.com
SUMMARY:💔🔥 PERVS & PAJAMAS: SINGLE & SINNING 🔥💔
DESCRIPTION:Barracudas Bar & Grill and Starlust Motel presents:\n💔🔥 PERVS & PAJAMAS: SINGLE & SINNING 🔥💔 \nWednesday Feb 11th at Barracuda’s Bar & Grill \nThis one’s for the single\, the unclaimed\, and the ones who like letting fate make bad decisions for them. (or the ones open – we don’t judge 😉 ) \nSlip into your sexiest lingerie or filthiest pajamas and step into a Valentine’s night where chance decides who gets close. \nHere’s how it works:\n🖤 Names go into the draw\n🖤 Pulled at random\n🖤 If your name’s called—congrats\, you’re a couple now\n🖤 Motel Rooms for those wanting a little more privacy\n🖤 Naughty treats to help get the mood going 😉 \nYour prize?\n⛺ A private little tent where you and your newly assigned temptation get to actually know each other—through flirty conversation\, naughty adult games\, and challenges designed to melt the awkward right off. \nAnd here’s the fun\, sweetheart:\nIf you’re paired up\, you can show back up together for the official Valentine’s Day event.\nSame person.\nSame chemistry.\nNo backing out. \nIs it love?\nIs it lust?\nIs it a terrible idea you’ll think about for weeks? \nThat’s the fun part. \n💋 Singles only. Pajamas required. Fate non-negotiable.\n💀 Miss it\, and live forever knowing Cupid picked someone else to ruin.
URL:https://thecrackden.com/event/%f0%9f%92%94%f0%9f%94%a5-pervs-pajamas-single-sinning-%f0%9f%94%a5%f0%9f%92%94/
LOCATION:Barracudas Bar & Grill\, Old Shore Rode
CATEGORIES:Backwaters
ATTACH;FMTTYPE=image/png:https://thecrackden.com/wp-content/uploads/2026/01/ChatGPT-Image-Jan-30-2026-06_39_02-PM.png
END:VEVENT
BEGIN:VEVENT
DTSTART;TZID=America/Los_Angeles:20260210T120000
DTEND;TZID=America/Los_Angeles:20260210T150000
DTSTAMP:20260424T194603
CREATED:20260209T174857Z
LAST-MODIFIED:20260209T174857Z
UID:7904-1770724800-1770735600@thecrackden.com
SUMMARY:CU Looter Cheerio Cheer Practice
DESCRIPTION:Hey Cheerios so it’s tuesday and that means I will be on the field all day for practice and whoever wants to tryout! \nAlso its less then 6 weeks to Nationals and we need to lock in so tomorrow’s practice is 3 hours.
URL:https://thecrackden.com/event/cu-looter-cheerio-cheer-practice/
LOCATION:Columtreal University
CATEGORIES:Columtreal
ATTACH;FMTTYPE=image/png:https://thecrackden.com/wp-content/uploads/2026/02/cheerio-logo-2026-white-bkground.png
END:VEVENT
BEGIN:VEVENT
DTSTART;TZID=America/Los_Angeles:20260208T123000
DTEND;TZID=America/Los_Angeles:20260208T140000
DTSTAMP:20260424T194603
CREATED:20260208T001744Z
LAST-MODIFIED:20260208T001744Z
UID:7881-1770553800-1770559200@thecrackden.com
SUMMARY:Phys Ed with Coach Nara: Recovery
DESCRIPTION:Physical education with Coach Nara. Join  in a class room discussion that goes over the basics of rest and recovery\, why off days are important. Come for a chill discussion.
URL:https://thecrackden.com/event/phys-ed-with-coach-nara-recovery-2/
CATEGORIES:Columtreal
ORGANIZER;CN="Taellinu Aichi":MAILTO:versluismatthew@gmail.com
END:VEVENT
BEGIN:VEVENT
DTSTART;TZID=America/Los_Angeles:20260208T110000
DTEND;TZID=America/Los_Angeles:20260208T123000
DTSTAMP:20260424T194603
CREATED:20260131T193551Z
LAST-MODIFIED:20260202T201628Z
UID:7777-1770548400-1770553800@thecrackden.com
SUMMARY:CU Orientation OOC
DESCRIPTION:An orientation class for new players to CU/CD. \n  \nHosted by Buffy and Calanthral
URL:https://thecrackden.com/event/cu-orientation-ooc/
LOCATION:Columtreal University
CATEGORIES:Columtreal,Welcome
END:VEVENT
BEGIN:VEVENT
DTSTART;TZID=America/Los_Angeles:20260208T063000
DTEND;TZID=America/Los_Angeles:20260208T083000
DTSTAMP:20260424T194603
CREATED:20260129T132434Z
LAST-MODIFIED:20260208T144706Z
UID:7732-1770532200-1770539400@thecrackden.com
SUMMARY:Music Class : Guitar Lessons
DESCRIPTION:(This is a come and meet your teacher moment.) \nMr. Morningstar is a Music/Dance Instructor \nAll his classes shall be on training a skill on a instrument or dance. Come meet up at the Columtreal University on the 2nd floor for the class. \nClass today: Violin Lessons \nTime: 8am – 930pm SLT \n(gildedcage.serenade If you need to contact me) \nhttp://maps.secondlife.com/secondlife/Black%20Bottom/157/90/46 \n  \n(there shall be a big event coming up\, Where the students will put on a a concert with the instruments they learned on a day after this.)
URL:https://thecrackden.com/event/music-class-guitar-lessons/
LOCATION:Columtreal University
CATEGORIES:Columtreal
ATTACH;FMTTYPE=image/png:https://thecrackden.com/wp-content/uploads/2026/01/bg-52a3efcdaa63bdea45ecf1c47826f7e2.png
END:VEVENT
BEGIN:VEVENT
DTSTART;TZID=America/Los_Angeles:20260207T160000
DTEND;TZID=America/Los_Angeles:20260207T173000
DTSTAMP:20260424T194603
CREATED:20260207T015700Z
LAST-MODIFIED:20260207T043342Z
UID:7867-1770480000-1770485400@thecrackden.com
SUMMARY:Phys Ed with Coach Nara: Recovery
DESCRIPTION:Physical education with Coach Nara. Join  in a class room discussion that goes over the basics of rest and recovery\, why off days are important. Come for a chill discussion.
URL:https://thecrackden.com/event/phys-ed-with-coach-nara-recovery/
LOCATION:Columtreal University
CATEGORIES:Columtreal
ORGANIZER;CN="Taellinu Aichi":MAILTO:versluismatthew@gmail.com
END:VEVENT
BEGIN:VEVENT
DTSTART;TZID=America/Los_Angeles:20260207T120000
DTEND;TZID=America/Los_Angeles:20260207T150000
DTSTAMP:20260424T194603
CREATED:20260203T225650Z
LAST-MODIFIED:20260203T230126Z
UID:7820-1770465600-1770476400@thecrackden.com
SUMMARY:Really Boring Lecture
DESCRIPTION:Come to our Really Boring Lecture at 12pm in the Lecture Hall. \n((please note this class is a cover for an event that will be happening on campus.  Taking part is voluntary but there may be a moderate level of in-character danger.  If you would rather not attend there is a pop-up DJ event at 1230pm in Backwaters))
URL:https://thecrackden.com/event/really-boring-lecture/
LOCATION:Columtreal University
CATEGORIES:Columtreal
END:VEVENT
BEGIN:VEVENT
DTSTART;TZID=America/Los_Angeles:20260207T120000
DTEND;TZID=America/Los_Angeles:20260207T150000
DTSTAMP:20260424T194603
CREATED:20260203T190749Z
LAST-MODIFIED:20260206T225911Z
UID:7816-1770465600-1770476400@thecrackden.com
SUMMARY:Pop-Up DJ set
DESCRIPTION:It’s been a while and I’m dusting off my deck and dipping my toes back into the game. \nCome dance\, do drugs and feel the beat as I entertain you for a little bit. \n  \nSaturday\, February 7th from 12 – 3 PM SLT \n  \nTaxi: http://maps.secondlife.com/secondlife/Laveau/72/146/26 \n[Right outside Flamingos LGBTQ+ Bar]
URL:https://thecrackden.com/event/pop-up-dj-set/
CATEGORIES:Backwaters
ATTACH;FMTTYPE=image/png:https://thecrackden.com/wp-content/uploads/2026/02/DJpopupsetfeb7th.png
END:VEVENT
BEGIN:VEVENT
DTSTART;TZID=America/Los_Angeles:20260207T100000
DTEND;TZID=America/Los_Angeles:20260207T113000
DTSTAMP:20260424T194603
CREATED:20260201T193251Z
LAST-MODIFIED:20260203T145627Z
UID:7793-1770458400-1770463800@thecrackden.com
SUMMARY:OOC Courtesy Workshop
DESCRIPTION:Join us for our OOC combat class! Great for new players and also a great refresher for existing players.
URL:https://thecrackden.com/event/ooc-combat-class/
LOCATION:The Plant
CATEGORIES:Workshop
END:VEVENT
BEGIN:VEVENT
DTSTART;TZID=America/Los_Angeles:20260205T140000
DTEND;TZID=America/Los_Angeles:20260205T150000
DTSTAMP:20260424T194603
CREATED:20260202T232636Z
LAST-MODIFIED:20260202T232636Z
UID:7810-1770300000-1770303600@thecrackden.com
SUMMARY:CU Class: Creation
DESCRIPTION:Learn about the creation of everything\, and maybe beyond
URL:https://thecrackden.com/event/cu-class-creation/
LOCATION:Columtreal University
CATEGORIES:Columtreal
END:VEVENT
BEGIN:VEVENT
DTSTART;TZID=America/Los_Angeles:20260204T110000
DTEND;TZID=America/Los_Angeles:20260204T133000
DTSTAMP:20260424T194603
CREATED:20260123T160619Z
LAST-MODIFIED:20260123T160619Z
UID:7669-1770202800-1770211800@thecrackden.com
SUMMARY:CU Looter Cheer Practice/ tryouts
DESCRIPTION:Weekly practice & Open Tryouts \nBring a routine or learn one of ours
URL:https://thecrackden.com/event/cu-looter-cheer-practice-tryouts-14/
LOCATION:Columtreal University
CATEGORIES:Columtreal
ATTACH;FMTTYPE=image/png:https://thecrackden.com/wp-content/uploads/2026/01/cheerio-logo-2026-white-bkground.png
END:VEVENT
BEGIN:VEVENT
DTSTART;TZID=America/Los_Angeles:20260203T170000
DTEND;TZID=America/Los_Angeles:20260203T183000
DTSTAMP:20260424T194603
CREATED:20260202T005152Z
LAST-MODIFIED:20260202T005152Z
UID:7801-1770138000-1770143400@thecrackden.com
SUMMARY:OOC Combat Class
DESCRIPTION:Join us for our OOC combat class! Great for new players and also a great refresher for existing players.
URL:https://thecrackden.com/event/ooc-combat-class-3/
LOCATION:The Plant
CATEGORIES:Workshop
END:VEVENT
BEGIN:VEVENT
DTSTART;TZID=America/Los_Angeles:20260202T100000
DTEND;TZID=America/Los_Angeles:20260202T113000
DTSTAMP:20260424T194603
CREATED:20260123T161457Z
LAST-MODIFIED:20260123T161457Z
UID:7674-1770026400-1770031800@thecrackden.com
SUMMARY:Photography Class with Shilo
DESCRIPTION:Welcome too Photography 101 where we take themed photos then discuss them\, this weeks theme “Valentines Day” or “Down With Love” you chose. Anything you want within the theme maybe a sign that says “Valentines Day was invented by the Candy companies” creativity is key.
URL:https://thecrackden.com/event/photography-class-with-shilo-2/
LOCATION:Columtreal University
CATEGORIES:Columtreal
END:VEVENT
BEGIN:VEVENT
DTSTART;TZID=America/Los_Angeles:20260202T070000
DTEND;TZID=America/Los_Angeles:20260202T093000
DTSTAMP:20260424T194603
CREATED:20260120T170645Z
LAST-MODIFIED:20260122T160721Z
UID:7640-1770015600-1770024600@thecrackden.com
SUMMARY:Music Class: Drum Lesson
DESCRIPTION:Teacher: Mr. Morningstar is a Music/Dance Instructor \nClass today: Drum Lessons \nTime: 8 am – 930 am SLT \n(gildedcage.serenade If you need to contact me) \nTP to class: http://maps.secondlife.com/secondlife/Black%20Bottom/157/90/46
URL:https://thecrackden.com/event/music-class-drum-lesson/
LOCATION:Columtreal University
CATEGORIES:Columtreal
ATTACH;FMTTYPE=image/png:https://thecrackden.com/wp-content/uploads/2026/01/7839b546e4809bbfd10b5fe1a402e5bc-1.png
END:VEVENT
BEGIN:VEVENT
DTSTART;TZID=America/Los_Angeles:20260201T120000
DTEND;TZID=America/Los_Angeles:20260201T160000
DTSTAMP:20260424T194603
CREATED:20260128T103027Z
LAST-MODIFIED:20260128T103027Z
UID:7719-1769947200-1769961600@thecrackden.com
SUMMARY:Lambda for Lamma's
DESCRIPTION:Join Lambda for Lamma’s as we raise money for a local Alpaca sanctuary. \n  \nCome pet our Alpaca Visitors and donate to a good cause. \n  \na small percentage of donations will go to the CU Lambda Obscura Greek Chapter to cover costs and future projects*
URL:https://thecrackden.com/event/lambda-for-lammas/
LOCATION:CU Lambda Obscura
CATEGORIES:Columtreal
END:VEVENT
END:VCALENDAR