BEGIN:VCALENDAR
VERSION:2.0
PRODID:-//Crack Den - ECPv6.15.20//NONSGML v1.0//EN
CALSCALE:GREGORIAN
METHOD:PUBLISH
X-WR-CALNAME:Crack Den
X-ORIGINAL-URL:https://thecrackden.com
X-WR-CALDESC:Events for Crack Den
REFRESH-INTERVAL;VALUE=DURATION:PT1H
X-Robots-Tag:noindex
X-PUBLISHED-TTL:PT1H
BEGIN:VTIMEZONE
TZID:America/Los_Angeles
BEGIN:DAYLIGHT
TZOFFSETFROM:-0800
TZOFFSETTO:-0700
TZNAME:PDT
DTSTART:20250309T100000
END:DAYLIGHT
BEGIN:STANDARD
TZOFFSETFROM:-0700
TZOFFSETTO:-0800
TZNAME:PST
DTSTART:20251102T090000
END:STANDARD
BEGIN:DAYLIGHT
TZOFFSETFROM:-0800
TZOFFSETTO:-0700
TZNAME:PDT
DTSTART:20260308T100000
END:DAYLIGHT
BEGIN:STANDARD
TZOFFSETFROM:-0700
TZOFFSETTO:-0800
TZNAME:PST
DTSTART:20261101T090000
END:STANDARD
BEGIN:DAYLIGHT
TZOFFSETFROM:-0800
TZOFFSETTO:-0700
TZNAME:PDT
DTSTART:20270314T100000
END:DAYLIGHT
BEGIN:STANDARD
TZOFFSETFROM:-0700
TZOFFSETTO:-0800
TZNAME:PST
DTSTART:20271107T090000
END:STANDARD
END:VTIMEZONE
BEGIN:VEVENT
DTSTART;TZID=America/Los_Angeles:20260307T090000
DTEND;TZID=America/Los_Angeles:20260307T110000
DTSTAMP:20260419T183952
CREATED:20260219T234145Z
LAST-MODIFIED:20260225T223602Z
UID:8051-1772874000-1772881200@thecrackden.com
SUMMARY:OOC Courtesy Workshop
DESCRIPTION:Come join us for our OOC Courtesy/Etiquette workshop! A big help for new players\, and a great refresher for the old.
URL:https://thecrackden.com/event/ooc-courtesy-workshop/
LOCATION:The Plant
CATEGORIES:OOC,Workshop
END:VEVENT
BEGIN:VEVENT
DTSTART;TZID=America/Los_Angeles:20260328T090000
DTEND;TZID=America/Los_Angeles:20260328T100000
DTSTAMP:20260419T183952
CREATED:20260320T002750Z
LAST-MODIFIED:20260325T205009Z
UID:8354-1774688400-1774692000@thecrackden.com
SUMMARY:OOC Workshop: Conflict Resolution
DESCRIPTION:Join us for a mini 1 hour workshop to go over conflict resolutions skills – the who\, what\, why\, when and how of them! Open to all players of all sims.
URL:https://thecrackden.com/event/ooc-workshop-conflict-resolution/
LOCATION:Columtreal University
CATEGORIES:Workshop
END:VEVENT
END:VCALENDAR