BEGIN:VCALENDAR
VERSION:2.0
PRODID:-//Crack Den - ECPv6.15.20//NONSGML v1.0//EN
CALSCALE:GREGORIAN
METHOD:PUBLISH
X-ORIGINAL-URL:https://thecrackden.com
X-WR-CALDESC:Events for Crack Den
REFRESH-INTERVAL;VALUE=DURATION:PT1H
X-Robots-Tag:noindex
X-PUBLISHED-TTL:PT1H
BEGIN:VTIMEZONE
TZID:America/Los_Angeles
BEGIN:DAYLIGHT
TZOFFSETFROM:-0800
TZOFFSETTO:-0700
TZNAME:PDT
DTSTART:20240310T100000
END:DAYLIGHT
BEGIN:STANDARD
TZOFFSETFROM:-0700
TZOFFSETTO:-0800
TZNAME:PST
DTSTART:20241103T090000
END:STANDARD
BEGIN:DAYLIGHT
TZOFFSETFROM:-0800
TZOFFSETTO:-0700
TZNAME:PDT
DTSTART:20250309T100000
END:DAYLIGHT
BEGIN:STANDARD
TZOFFSETFROM:-0700
TZOFFSETTO:-0800
TZNAME:PST
DTSTART:20251102T090000
END:STANDARD
BEGIN:DAYLIGHT
TZOFFSETFROM:-0800
TZOFFSETTO:-0700
TZNAME:PDT
DTSTART:20260308T100000
END:DAYLIGHT
BEGIN:STANDARD
TZOFFSETFROM:-0700
TZOFFSETTO:-0800
TZNAME:PST
DTSTART:20261101T090000
END:STANDARD
END:VTIMEZONE
BEGIN:VEVENT
DTSTART;TZID=America/Los_Angeles:20250706T110000
DTEND;TZID=America/Los_Angeles:20250706T133000
DTSTAMP:20260419T232207
CREATED:20250628T000831Z
LAST-MODIFIED:20250628T071209Z
UID:5783-1751799600-1751808600@thecrackden.com
SUMMARY:Independence Day Tactical Display
DESCRIPTION:This year\, we’re celebrating freedom with force. Join the [Department Name] for an “Independence Day Parade” like no other—where the real stars are our armored vehicles\, tactical gear\, and high-powered weaponry. It’s less about floats and more about firepower. \nCome see the tools we use to keep order—up close and personal. Red\, white\, and boom. \n((In front of the HPD for now\, will update if need be))
URL:https://thecrackden.com/event/independence-day-tactical-display/
CATEGORIES:Crack Den
ATTACH;FMTTYPE=image/jpeg:https://thecrackden.com/wp-content/uploads/2025/06/copcar.jpg
END:VEVENT
END:VCALENDAR