BEGIN:VCALENDAR
VERSION:2.0
PRODID:-//Crack Den - ECPv6.15.20//NONSGML v1.0//EN
CALSCALE:GREGORIAN
METHOD:PUBLISH
X-WR-CALNAME:Crack Den
X-ORIGINAL-URL:https://thecrackden.com
X-WR-CALDESC:Events for Crack Den
REFRESH-INTERVAL;VALUE=DURATION:PT1H
X-Robots-Tag:noindex
X-PUBLISHED-TTL:PT1H
BEGIN:VTIMEZONE
TZID:America/Los_Angeles
BEGIN:DAYLIGHT
TZOFFSETFROM:-0800
TZOFFSETTO:-0700
TZNAME:PDT
DTSTART:20240310T100000
END:DAYLIGHT
BEGIN:STANDARD
TZOFFSETFROM:-0700
TZOFFSETTO:-0800
TZNAME:PST
DTSTART:20241103T090000
END:STANDARD
BEGIN:DAYLIGHT
TZOFFSETFROM:-0800
TZOFFSETTO:-0700
TZNAME:PDT
DTSTART:20250309T100000
END:DAYLIGHT
BEGIN:STANDARD
TZOFFSETFROM:-0700
TZOFFSETTO:-0800
TZNAME:PST
DTSTART:20251102T090000
END:STANDARD
BEGIN:DAYLIGHT
TZOFFSETFROM:-0800
TZOFFSETTO:-0700
TZNAME:PDT
DTSTART:20260308T100000
END:DAYLIGHT
BEGIN:STANDARD
TZOFFSETFROM:-0700
TZOFFSETTO:-0800
TZNAME:PST
DTSTART:20261101T090000
END:STANDARD
END:VTIMEZONE
BEGIN:VEVENT
DTSTART;TZID=America/Los_Angeles:20250831T140000
DTEND;TZID=America/Los_Angeles:20250831T180000
DTSTAMP:20260419T212317
CREATED:20250819T151933Z
LAST-MODIFIED:20250825T202009Z
UID:6427-1756648800-1756663200@thecrackden.com
SUMMARY:King Street Summer Sendoff
DESCRIPTION:Block party on King St. Got the end of the summer blues. Come join us for food\, booze\, tunes and ….. \nKing St\, between Hathian Highway and Hangmans Pass Road
URL:https://thecrackden.com/event/king-street-summer-sendoff/
CATEGORIES:Crack Den
END:VEVENT
BEGIN:VEVENT
DTSTART;TZID=America/Los_Angeles:20250830T080000
DTEND;TZID=America/Los_Angeles:20250926T170000
DTSTAMP:20260419T212317
CREATED:20250707T200805Z
LAST-MODIFIED:20250908T005305Z
UID:5923-1756540800-1758906000@thecrackden.com
SUMMARY:[CD20] CD 20th Anniversary Month
DESCRIPTION:This month marks 20 years of raw\, unfiltered storytelling. For two decades\, writers\, dreamers\, and outlaws have built a world where every scene leaves its mark. \nHere in this forgotten corner of the Deep South\, corruption festers\, brutality reigns\, and survival is never guaranteed. From citizen to criminal\, cop to gang member\, student to teacher — the story is yours to tell. \nWe’ll be celebrating all month with both IC and OOC events\, so make sure to check the calendar regularly!
URL:https://thecrackden.com/event/cd-20-years-anniversary/
CATEGORIES:Backwaters,Columtreal,Crack Den
ATTACH;FMTTYPE=image/png:https://thecrackden.com/wp-content/uploads/2025/07/CD20-Cover.png
END:VEVENT
BEGIN:VEVENT
DTSTART;TZID=America/Los_Angeles:20250824T120000
DTEND;TZID=America/Los_Angeles:20250824T150000
DTSTAMP:20260419T212317
CREATED:20250808T142210Z
LAST-MODIFIED:20250808T165756Z
UID:6351-1756036800-1756047600@thecrackden.com
SUMMARY: Hot and Bothered: Global Guts Edition 
DESCRIPTION:A Night of Slippery Snacks\, Sweaty Bodies & Questionable Life Choices\n\nGet ready to gag — in every sense of the word.\n\nThis ain’t just a food challenge — it’s a filthy\, fiery\, freakshow of global delicacies that’ll have you moaning\, retching\, and maybe climaxing (emotionally). We’re talking bull balls\, maggot cheese\, fermented nightmares\, and things that still twitch — all served up with a side of trauma.\n\nSurvive it all\, and you might just walk away with $1\,000 cash. That’s right — a full grand for the freak with the strongest stomach and the lowest standards.\n\nThen it’s time to cool down and hose off those regrets in our wet zone of chaos — pools\, sprinklers\, slippery games\, and hot bodies getting wetter by the minute.\n\nDare your friends. Shame your ex. Win big.\nSlurp it. Suffer it. Splash it off. One night only. No safe words.
URL:https://thecrackden.com/event/hot-and-bothered-global-guts-edition/
LOCATION:Gein Restaurant
CATEGORIES:Crack Den
ATTACH;FMTTYPE=image/png:https://thecrackden.com/wp-content/uploads/2025/08/unnamed-1.png
END:VEVENT
BEGIN:VEVENT
DTSTART;TZID=America/Los_Angeles:20250809T100000
DTEND;TZID=America/Los_Angeles:20250809T130000
DTSTAMP:20260419T212317
CREATED:20250727T184929Z
LAST-MODIFIED:20250731T022754Z
UID:6095-1754733600-1754744400@thecrackden.com
SUMMARY:Hathian Crab Boil
DESCRIPTION:Brought to you by Lou’s and sponsored by The Clam. We’ve got a party for you!
URL:https://thecrackden.com/event/hathian-crab-boil/
LOCATION:Lou’s Bar
CATEGORIES:Crack Den
END:VEVENT
BEGIN:VEVENT
DTSTART;TZID=America/Los_Angeles:20250727T100000
DTEND;TZID=America/Los_Angeles:20250727T150000
DTSTAMP:20260419T212317
CREATED:20250629T032533Z
LAST-MODIFIED:20250629T033915Z
UID:5794-1753610400-1753628400@thecrackden.com
SUMMARY:Red\, White & Blues BBQ
DESCRIPTION:Music\, meat\, and the best buns in the free world.  A patriotic party at the Blues Club in Hathian sponsored by the Berthier St. Bakery & the Slab.
URL:https://thecrackden.com/event/red-white-blues-bbq/
LOCATION:Hathian Blues Bar
CATEGORIES:Crack Den
END:VEVENT
BEGIN:VEVENT
DTSTART;TZID=America/Los_Angeles:20250726T080000
DTEND;TZID=America/Los_Angeles:20250726T100000
DTSTAMP:20260419T212317
CREATED:20250722T135718Z
LAST-MODIFIED:20250722T135718Z
UID:6074-1753516800-1753524000@thecrackden.com
SUMMARY:Hathian Dueling Society Meet and Greet
DESCRIPTION:Tired of today’s lack of civil order and pointless violence? \nYearn for more honorable times? \nJoin us to meet like minded individuals who settle disputes with the old ways and bring back the dignity of the Old South. \nNote: Swords and pistols not provided. Dueling includes activities which may cause injury or death.  Participants waive the right to legal recourse against the Hathian Dueling Society\, its principals or Colt Carson\, Esquire. 
URL:https://thecrackden.com/event/hathian-dueling-society-meet-and-greet/
LOCATION:Berthier St Bakery
CATEGORIES:Crack Den
END:VEVENT
BEGIN:VEVENT
DTSTART;TZID=America/Los_Angeles:20250720T140000
DTEND;TZID=America/Los_Angeles:20250720T170000
DTSTAMP:20260419T212317
CREATED:20250711T021226Z
LAST-MODIFIED:20250711T021226Z
UID:5957-1753020000-1753030800@thecrackden.com
SUMMARY:FDH Community BBQ
DESCRIPTION:Enjoy summertime with delicious BBQ\, cool tunes\, good company and vibes with your city’s fire department. Come on down and eat and drink up!
URL:https://thecrackden.com/event/fdh-community-bbq-5/
LOCATION:DISTRICT EIGHT PARK\, Hathian
CATEGORIES:Crack Den,Welcome
END:VEVENT
BEGIN:VEVENT
DTSTART;TZID=America/Los_Angeles:20250719T120000
DTEND;TZID=America/Los_Angeles:20250719T160000
DTSTAMP:20260419T212317
CREATED:20250602T215331Z
LAST-MODIFIED:20250704T185928Z
UID:4240-1752926400-1752940800@thecrackden.com
SUMMARY:HeatRAVE @ Hathian Theater House
DESCRIPTION:Hathian Theater House proudly presents the July HeatRAVE on Saturday July 19th from 12-4 SLT with party favors and music by DJ Ted. \nWear summer type clothes or come as you are we don’t care just be ready to party!!!!
URL:https://thecrackden.com/event/heatrave-hathian-theater-house/
CATEGORIES:Crack Den
END:VEVENT
BEGIN:VEVENT
DTSTART;TZID=America/Los_Angeles:20250718T100000
DTEND;TZID=America/Los_Angeles:20250718T140000
DTSTAMP:20260419T212317
CREATED:20250718T220957Z
LAST-MODIFIED:20250718T220957Z
UID:6015-1752832800-1752847200@thecrackden.com
SUMMARY:🏖️ HATHIAN POLICE BEACH PARTY 🏖️
DESCRIPTION:🏖️ Brews and Barbecue HPD Social🏖️Date: August 2ndTime: 10:00-14:00 (ish SLT)Location: Batterie Beach \nJoin the Hathian Police Department for some fun in the sun! We’re throwing a beach bash with food\, drinks\, and good vibes. It’s BYOB (bring your own booze) and BYOBikini\, so come ready to relax or make some waves. Open to all HPD personnel and friends. Don’t miss it!
URL:https://thecrackden.com/event/%f0%9f%8f%96%ef%b8%8f-hathian-police-beach-party-%f0%9f%8f%96%ef%b8%8f/
CATEGORIES:Crack Den
END:VEVENT
BEGIN:VEVENT
DTSTART;TZID=America/Los_Angeles:20250716T153000
DTEND;TZID=America/Los_Angeles:20250716T183000
DTSTAMP:20260419T212317
CREATED:20250715T162015Z
LAST-MODIFIED:20250715T162015Z
UID:5986-1752679800-1752690600@thecrackden.com
SUMMARY:High Tea
DESCRIPTION:Weekly queer social. It’s like a sermon\, but the gospel is weed and queer joy. \nFor LGBTQ+ people and the ones who love us loud\, right\, and real. \nWEDNESDAYS @ 3:30PM at The Greenhouse – come vibe. \n  \n[[Please contact Trevington Resident for any questions]]
URL:https://thecrackden.com/event/high-tea-3/
CATEGORIES:Crack Den
END:VEVENT
BEGIN:VEVENT
DTSTART;VALUE=DATE:20250714
DTEND;VALUE=DATE:20250715
DTSTAMP:20260419T212317
CREATED:20250711T004740Z
LAST-MODIFIED:20250711T004740Z
UID:5952-1752451200-1752537599@thecrackden.com
SUMMARY:International Nude Day
DESCRIPTION:International Nude Day is a holiday celebrated on July 14 every year\, where people remove all of their clothing to celebrate the freedom and beauty of the human body. The holiday originated in New Zealand in 1976\, when television presenter and former rugby player Marc Ellis dared people to streak in front of New Zealand’s Prime Minister Helen Clark. Since then\, it has spread to over 30 countries around the world. \nIt has been celebrated in Hathian off and on for the last 8 years.
URL:https://thecrackden.com/event/international-nude-day/
CATEGORIES:Backwaters,Columtreal,Crack Den
END:VEVENT
BEGIN:VEVENT
DTSTART;TZID=America/Los_Angeles:20250712T120000
DTEND;TZID=America/Los_Angeles:20250712T150000
DTSTAMP:20260419T212317
CREATED:20250627T194638Z
LAST-MODIFIED:20250711T145606Z
UID:5760-1752321600-1752332400@thecrackden.com
SUMMARY:Darkwire: Opening party
DESCRIPTION:Darkwire Cybercafe will be hosting the finale of its E-Girl Mascot Contest during the grand opening party.Join us to vote for your favorite girl\, try our new energy drinks menu\, and celebrate the launch of our business in Laveau. \nSaturday 12th July (12pm-3pm)\nLaveau\, Backwaters – http://maps.secondlife.com/secondlife/Laveau/140/244/28 \n[ For more information contact MissNoah.Littlepaws ]
URL:https://thecrackden.com/event/darkwire-opening-party/
CATEGORIES:Backwaters,Crack Den
ATTACH;FMTTYPE=image/jpeg:https://thecrackden.com/wp-content/uploads/2025/06/Darkwire-Mascot-contest-01-1024px-1.jpg
END:VEVENT
BEGIN:VEVENT
DTSTART;TZID=America/Los_Angeles:20250706T110000
DTEND;TZID=America/Los_Angeles:20250706T133000
DTSTAMP:20260419T212317
CREATED:20250628T000831Z
LAST-MODIFIED:20250628T071209Z
UID:5783-1751799600-1751808600@thecrackden.com
SUMMARY:Independence Day Tactical Display
DESCRIPTION:This year\, we’re celebrating freedom with force. Join the [Department Name] for an “Independence Day Parade” like no other—where the real stars are our armored vehicles\, tactical gear\, and high-powered weaponry. It’s less about floats and more about firepower. \nCome see the tools we use to keep order—up close and personal. Red\, white\, and boom. \n((In front of the HPD for now\, will update if need be))
URL:https://thecrackden.com/event/independence-day-tactical-display/
CATEGORIES:Crack Den
ATTACH;FMTTYPE=image/jpeg:https://thecrackden.com/wp-content/uploads/2025/06/copcar.jpg
END:VEVENT
END:VCALENDAR