BEGIN:VCALENDAR
VERSION:2.0
PRODID:-//Crack Den - ECPv6.15.20//NONSGML v1.0//EN
CALSCALE:GREGORIAN
METHOD:PUBLISH
X-WR-CALNAME:Crack Den
X-ORIGINAL-URL:https://thecrackden.com
X-WR-CALDESC:Events for Crack Den
REFRESH-INTERVAL;VALUE=DURATION:PT1H
X-Robots-Tag:noindex
X-PUBLISHED-TTL:PT1H
BEGIN:VTIMEZONE
TZID:America/Los_Angeles
BEGIN:DAYLIGHT
TZOFFSETFROM:-0800
TZOFFSETTO:-0700
TZNAME:PDT
DTSTART:20240310T100000
END:DAYLIGHT
BEGIN:STANDARD
TZOFFSETFROM:-0700
TZOFFSETTO:-0800
TZNAME:PST
DTSTART:20241103T090000
END:STANDARD
BEGIN:DAYLIGHT
TZOFFSETFROM:-0800
TZOFFSETTO:-0700
TZNAME:PDT
DTSTART:20250309T100000
END:DAYLIGHT
BEGIN:STANDARD
TZOFFSETFROM:-0700
TZOFFSETTO:-0800
TZNAME:PST
DTSTART:20251102T090000
END:STANDARD
BEGIN:DAYLIGHT
TZOFFSETFROM:-0800
TZOFFSETTO:-0700
TZNAME:PDT
DTSTART:20260308T100000
END:DAYLIGHT
BEGIN:STANDARD
TZOFFSETFROM:-0700
TZOFFSETTO:-0800
TZNAME:PST
DTSTART:20261101T090000
END:STANDARD
BEGIN:DAYLIGHT
TZOFFSETFROM:-0800
TZOFFSETTO:-0700
TZNAME:PDT
DTSTART:20270314T100000
END:DAYLIGHT
BEGIN:STANDARD
TZOFFSETFROM:-0700
TZOFFSETTO:-0800
TZNAME:PST
DTSTART:20271107T090000
END:STANDARD
END:VTIMEZONE
BEGIN:VEVENT
DTSTART;VALUE=DATE:20260227
DTEND;VALUE=DATE:20260228
DTSTAMP:20260419T155933
CREATED:20260216T001011Z
LAST-MODIFIED:20260225T202347Z
UID:8000-1772150400-1772236799@thecrackden.com
SUMMARY:Hathian Mardi Gras 2026
DESCRIPTION:The final stop on of the Mardi Gras celebrations is nowhere other than Hathian on Bourbon Street! Get boozed up\, throw beads\, shake your ass and have a day of letting loose. \n  \nWe’ve got booths from local businesses and music all day – see you there bestie? \n  \n  ► Friday\, February 27th from 11 AM – until we’re partied out  \n ► DJ sets from 12 PM SLT  \n ► Bourbon Street
URL:https://thecrackden.com/event/hathian-mardi-gras-2026/
CATEGORIES:Crack Den
ATTACH;FMTTYPE=image/png:https://thecrackden.com/wp-content/uploads/2026/02/Mardi-Gras-2026-CD.png
END:VEVENT
BEGIN:VEVENT
DTSTART;TZID=America/Los_Angeles:20260222T120000
DTEND;TZID=America/Los_Angeles:20260222T180000
DTSTAMP:20260419T155933
CREATED:20260124T235348Z
LAST-MODIFIED:20260124T235401Z
UID:7686-1771761600-1771783200@thecrackden.com
SUMMARY:My Bloody Valentine Block Party
DESCRIPTION:The Vudu Spice Shop\, The Clam and Kei’s Beauty Salon presents… \nMy Bloody Valentine Block Party!  Let’s celebrate Lascivious Lust & Love! \nCome join us for music\, dancing\, laughter\, contests and more! Ample food and beverage available\, along with all the usual party favors. Dress in theme to win the title of Mr. or Ms. Bloody Valentine!
URL:https://thecrackden.com/event/my-bloody-valentine-block-party/
CATEGORIES:Crack Den
ATTACH;FMTTYPE=image/png:https://thecrackden.com/wp-content/uploads/2026/01/MyBloodyValentineFinal-1.png
END:VEVENT
BEGIN:VEVENT
DTSTART;VALUE=DATE:20260216
DTEND;VALUE=DATE:20260217
DTSTAMP:20260419T155933
CREATED:20260129T032041Z
LAST-MODIFIED:20260203T182715Z
UID:7724-1771200000-1771286399@thecrackden.com
SUMMARY:💘🩸 BLOOD DRIVE AT THE CLAM 🩸💘
DESCRIPTION:💘🩸 BLOOD DRIVE AT THE CLAM 🩸💘 \nShare the love. Save a life. \n  \nThis Valentine’s Day\, give the gift that really comes from the heart… \nYOUR BLOOD ❤️ \n  \n📍 Location: The Clam \n📅 Date: [Monday\, February 16th] \n⏰ Time: [All Day!] \n  \n🫀 Every donation can help save up to 3 lives! \n🍪 Snacks & refreshments provided \n💕 Bring a friend — donate together! \n  \nWalk-ins welcome!
URL:https://thecrackden.com/event/blood-drive-at-the-clam/
CATEGORIES:Crack Den
ATTACH;FMTTYPE=image/png:https://thecrackden.com/wp-content/uploads/2026/01/e78b080e-681b-48bd-a5a6-1aecf803387d.png
END:VEVENT
BEGIN:VEVENT
DTSTART;TZID=America/Los_Angeles:20260215T130000
DTEND;TZID=America/Los_Angeles:20260215T160000
DTSTAMP:20260419T155933
CREATED:20260209T033840Z
LAST-MODIFIED:20260213T041147Z
UID:7887-1771160400-1771171200@thecrackden.com
SUMMARY:Hot Beats Grand Opening
DESCRIPTION:Come join us for the grand opening of Hot Beats \nEnjoy free drinks and food (catered by Flamin’ Cajun) \nThe famous DJ Poppy spinning the beats. \nEver dream of cutting an album? Want to showcase your art work? This is the place for you.\nAll are welcome to check out the studios and have some fun. \nTaxi is here: http://maps.secondlife.com/secondlife/Black%20Bottom/232/147/34
URL:https://thecrackden.com/event/hot-beats-grand-opening/
CATEGORIES:Columtreal,Crack Den
END:VEVENT
BEGIN:VEVENT
DTSTART;VALUE=DATE:20260214
DTEND;VALUE=DATE:20260216
DTSTAMP:20260419T155933
CREATED:20260106T133715Z
LAST-MODIFIED:20260106T133715Z
UID:7463-1771027200-1771199999@thecrackden.com
SUMMARY:Do or Die Valentine Sim Plot
DESCRIPTION:Information will be learned ICly and in-world during the two-day event. This will not be known ICly until then. Look for posts in CD Citizens\, Discord\, and social media.
URL:https://thecrackden.com/event/do-or-die-valentine-sim-plot/
CATEGORIES:Crack Den
END:VEVENT
BEGIN:VEVENT
DTSTART;VALUE=DATE:20260214
DTEND;VALUE=DATE:20260215
DTSTAMP:20260419T155933
CREATED:20260209T190847Z
LAST-MODIFIED:20260209T190847Z
UID:7915-1771027200-1771113599@thecrackden.com
SUMMARY:Flamin' Cajun VD Special
DESCRIPTION:Want to impress your significant other? Or just hoping to get laid? \nBring that special someone over to Flamin’ Cajun – Hathian’s number one  restaurant in town for an exquisite themed Valentine’s Day menu all day long. \nUnlimited champagne and complimentry roses with every meal. \nPrix Fixe @$45 per couple ((IC only no lindens)) \nMain courses to desserts your taste buds will bring out the inner lustful beast we all know you are \n((OOC – feel free to utilize the space at anytime during the day – NPC staff is on hand if no one is actively around to RP))
URL:https://thecrackden.com/event/flamin-cajun-vd-special/
CATEGORIES:Crack Den,Welcome
ATTACH;FMTTYPE=image/png:https://thecrackden.com/wp-content/uploads/2026/02/vdflam.png
END:VEVENT
BEGIN:VEVENT
DTSTART;TZID=America/Los_Angeles:20260213T120000
DTEND;TZID=America/Los_Angeles:20260213T160000
DTSTAMP:20260419T155933
CREATED:20251219T023030Z
LAST-MODIFIED:20260102T111231Z
UID:7343-1770984000-1770998400@thecrackden.com
SUMMARY:Blackout Valentine Party
DESCRIPTION:Turn the lights off! Glow in the dark with a blacklight theme to celebrate Valentine’s Day. \nGames first\, music after. Paintball\, Dare or Punishment challenge\, kissing booth\, glowsticks\, alcohol\, and dance until you drop before the light of dawn. \nFree absinthe shots; regular price for all other alcoholic beverages. \nSee you there. \n\nTen No Kage
URL:https://thecrackden.com/event/blackout-valentine-party/
LOCATION:The Plant
CATEGORIES:Crack Den
ATTACH;FMTTYPE=image/png:https://thecrackden.com/wp-content/uploads/2025/12/Blackout-Valentine-Party-Poster-1.png
END:VEVENT
BEGIN:VEVENT
DTSTART;TZID=America/Los_Angeles:20260117T090000
DTEND;TZID=America/Los_Angeles:20260117T170000
DTSTAMP:20260419T155933
CREATED:20251222T182706Z
LAST-MODIFIED:20251222T191918Z
UID:7370-1768640400-1768669200@thecrackden.com
SUMMARY:NOCTURNE PRESENTS: THE MIDNIGHT MARKET
DESCRIPTION:A Winter Night Bazaar\nOnce a year\, Nocturne opens the doors just enough to let the city play. The Midnight Market is a public night bazaar full of: games\, dares\,silly chaos\, questionable prizes\, harmless vices\nMost people come for fun. Some come to show off.\nA few don’t realize they’re being quietly catalogued.\nNocturne doesn’t loom here\, they host.
URL:https://thecrackden.com/event/nocturne-presents-the-midnight-market/
LOCATION:The Plant
CATEGORIES:Crack Den
ATTACH;FMTTYPE=image/png:https://thecrackden.com/wp-content/uploads/2025/12/ChatGPT-Image-Dec-22-2025-02_18_54-PM.png
END:VEVENT
BEGIN:VEVENT
DTSTART;TZID=America/Los_Angeles:20260116T130000
DTEND;TZID=America/Los_Angeles:20260116T150000
DTSTAMP:20260419T155933
CREATED:20260106T131327Z
LAST-MODIFIED:20260110T151139Z
UID:7458-1768568400-1768575600@thecrackden.com
SUMMARY:We must stand up! – AY$3 Performance
DESCRIPTION:Chartbusters is sponsoring a music performance by artist AY$3\, known for her hip-hop style\, honest lyricism\, and insurrectionary content. \nStage setup near Chartbusters. Crack open a beer\, dance\, get rowdy\, get chaotic. \n1 pm (SLT) – 3 pm (SLT)
URL:https://thecrackden.com/event/we-must-stand-up-ay3-performance/
LOCATION:Chartbusters\, Round the corner from Rader\, Across the cementary\, Hangman's pass
CATEGORIES:Crack Den
ATTACH;FMTTYPE=image/png:https://thecrackden.com/wp-content/uploads/2026/01/AY3-Concert.png
END:VEVENT
BEGIN:VEVENT
DTSTART;VALUE=DATE:20251231
DTEND;VALUE=DATE:20260101
DTSTAMP:20260419T155933
CREATED:20250602T214550Z
LAST-MODIFIED:20260215T053900Z
UID:4238-1767139200-1767225599@thecrackden.com
SUMMARY:Fireworks @ Batterie Beach
DESCRIPTION:There’s no better way to ring in the new year than watching stuff explode! 🎉 \nFireworks will be on display at Batterie Beach all day\, so come watch the sky light up and forget about those failed resolutions 🥂
URL:https://thecrackden.com/event/fireworks-batterie-beach/
CATEGORIES:Crack Den
END:VEVENT
BEGIN:VEVENT
DTSTART;TZID=America/Los_Angeles:20251227T120000
DTEND;TZID=America/Los_Angeles:20251227T150000
DTSTAMP:20260419T155933
CREATED:20250602T165842Z
LAST-MODIFIED:20251214T024839Z
UID:4226-1766836800-1766847600@thecrackden.com
SUMMARY:New Year's Rave
DESCRIPTION:Ring in the new year in style! \nHead down to The Plant for our second annual New Year’s Rave and get lost in the lights and sounds (maybe with a little chemical assistance). \n\nDecember 27th\, noon til ?\nMusic by DJ Ted\nhttp://maps.secondlife.com/secondlife/Devils%20Pocket/233/253/35
URL:https://thecrackden.com/event/nye-rave/
CATEGORIES:Crack Den
ATTACH;FMTTYPE=image/jpeg:https://thecrackden.com/wp-content/uploads/2025/06/rave25.jpg
END:VEVENT
BEGIN:VEVENT
DTSTART;TZID=America/Los_Angeles:20251221T080000
DTEND;TZID=America/Los_Angeles:20251221T130000
DTSTAMP:20260419T155933
CREATED:20251123T211146Z
LAST-MODIFIED:20251123T211146Z
UID:7152-1766304000-1766322000@thecrackden.com
SUMMARY:The Slab Butcher's Retro Rave
DESCRIPTION:What is better than stepping into Christmas with good food? Doing it while dancing to throwback tracks from the 80s and 90s\, and maybe something…..Stranger will happen. \nCome on down to the Slab and dance until your feet turn blue from frostbite!
URL:https://thecrackden.com/event/the-slab-butchers-retro-rave/
LOCATION:The Slab Butcher’s
CATEGORIES:Crack Den
ATTACH;FMTTYPE=image/jpeg:https://thecrackden.com/wp-content/uploads/2025/11/Pink-And-Beige-Colorful-90s-Retro-Party-Invitation.jpg
END:VEVENT
BEGIN:VEVENT
DTSTART;TZID=America/Los_Angeles:20251213T120000
DTEND;TZID=America/Los_Angeles:20251213T140000
DTSTAMP:20260419T155933
CREATED:20250602T165712Z
LAST-MODIFIED:20251212T013335Z
UID:4224-1765627200-1765634400@thecrackden.com
SUMMARY:OOC Alterscape Holiday Party
DESCRIPTION:It’s that time of the year again! Slip into festive gear and come hang out with us for our annual and last OOC party of the year! And hey\, there might just be some lindens flying about. We can’t wait to see you again besties.  \nTunes by yours truly\, Propane Rage \n Saturday\, December 13th from 12 PM – 2 PM SLT \n http://maps.secondlife.com/secondlife/District%208/181/155/3001
URL:https://thecrackden.com/event/ooc-alterscape-holiday-party/
CATEGORIES:Backwaters,Columtreal,Crack Den
ATTACH;FMTTYPE=image/png:https://thecrackden.com/wp-content/uploads/2025/06/alterscape-holiday-party-25.png
END:VEVENT
BEGIN:VEVENT
DTSTART;TZID=America/Los_Angeles:20251130T100000
DTEND;TZID=America/Los_Angeles:20251130T120000
DTSTAMP:20260419T155933
CREATED:20251027T151402Z
LAST-MODIFIED:20251027T151402Z
UID:7034-1764496800-1764504000@thecrackden.com
SUMMARY:OOC Workshop - Combat Class
DESCRIPTION:Last ooc workshop for November – Join our mentors for a combat refresher\, which will go over basic guidelines as well as any questions you may have in a less lecture hall style approach and more round table discussion and debate on the area’s between the known sim rules. \nhttp://maps.secondlife.com/secondlife/Devils%20Pocket/237/243/35
URL:https://thecrackden.com/event/ooc-workshop-combat-class-2/
LOCATION:The Plant
CATEGORIES:Crack Den,Workshop
END:VEVENT
BEGIN:VEVENT
DTSTART;VALUE=DATE:20251128
DTEND;VALUE=DATE:20251129
DTSTAMP:20260419T155933
CREATED:20251117T170228Z
LAST-MODIFIED:20251117T170228Z
UID:7099-1764288000-1764374399@thecrackden.com
SUMMARY:XXX Black Friday Sale
DESCRIPTION:Prepare for the festive season with our annual Black Friday sale at the XXX Shop of Hathian! There’s 50% off everything in the store for one day only. From kinky toys to daring lingerie\, saucy movies to thrilling furniture\, and all the sensual accessories you can dream off\, there’s something for everyone. So\, come on down to the XXX Shop for the deal of the year!
URL:https://thecrackden.com/event/xxx-black-friday-sale/
LOCATION:XXX Shop of Hathian\, Bourbon Street\, Hathian
CATEGORIES:Crack Den
ATTACH;FMTTYPE=image/jpeg:https://thecrackden.com/wp-content/uploads/2025/11/friday.jpg
END:VEVENT
BEGIN:VEVENT
DTSTART;TZID=America/Los_Angeles:20251123T100000
DTEND;TZID=America/Los_Angeles:20251123T140000
DTSTAMP:20260419T155933
CREATED:20251107T063032Z
LAST-MODIFIED:20251120T210343Z
UID:7081-1763892000-1763906400@thecrackden.com
SUMMARY:Thanksgiving Party
DESCRIPTION:It’s back! The Slab Butcher’s Thanksgiving Party! \nPlenty of turkey\, soup\, pumpkin pie and apple cider to go around! \nCome on down to the Slab Butcher’s and bring your loved ones\, or\, come alone. Everyone is welcome!
URL:https://thecrackden.com/event/thanksgiving-party/
LOCATION:The Slab Butcher’s
CATEGORIES:Crack Den
ATTACH;FMTTYPE=image/jpeg:https://thecrackden.com/wp-content/uploads/2025/11/the-slab-butchers-presents-1.jpg
END:VEVENT
BEGIN:VEVENT
DTSTART;VALUE=DATE:20251115
DTEND;VALUE=DATE:20251117
DTSTAMP:20260419T155933
CREATED:20250827T034602Z
LAST-MODIFIED:20251003T200725Z
UID:6507-1763164800-1763337599@thecrackden.com
SUMMARY:Carnevale Obscura
DESCRIPTION:A traveling carnival sets up on the edge of town. Just for the weekend. No ads. No permits anyone can track down. Just flashing lights\, blaring music\, and a stream of costumed performers ready to entertain. \nTo the public\, it’s a strange but harmless distraction\, a maze of fire-breathers\, freak shows\, cheap prizes\, and overpriced snacks. But that’s just the surface. \nBehind the tents and painted smiles is a well-organized black market operation. \nThe Carnival is a cover; a mobile hub for smugglers\, traffickers\, organ dealers\, and fixers. It slips from city to city under the radar\, running high-risk trades\, scoping out new marks\, and disappearing before anyone can put the pieces together. Locals might vanish. Property goes missing. Illegal trades change hands in the shadows — weapons\, narcotics\, stolen identities\, organs\, people. Nothing is off-limits\, so long as the price is right. \nThe workers aren’t just performers. They’re runners\, thieves\, and hunters. Some draw crowds. Some draw blood. Some offer deals no one should take. \nAnd when the Carnival leaves\, it takes more than it came with.
URL:https://thecrackden.com/event/tba/
CATEGORIES:Crack Den
ATTACH;FMTTYPE=image/jpeg:https://thecrackden.com/wp-content/uploads/2025/08/9ab60729-f054-4cfe-9cb1-0aef7e329794.jpg
END:VEVENT
BEGIN:VEVENT
DTSTART;TZID=America/Los_Angeles:20251101T000000
DTEND;TZID=America/Los_Angeles:20251102T233000
DTSTAMP:20260419T155933
CREATED:20251020T172425Z
LAST-MODIFIED:20251031T181626Z
UID:6974-1761955200-1762126200@thecrackden.com
SUMMARY:Día de los Muertos aka Day of the Dead Celebration
DESCRIPTION:Día de los Muertos aka Day of the Dead Celebration\nDates- midnight November 1 – midnight November 2 \nWhat it is-\nThe Day of the Dead is a holiday traditionally celebrated on November 1 and 2\, though other days\, such as October 31 or November 6\, may be included depending on the locality. The multi-day holiday involves family and friends gathering to pay respects and remember friends and family members who have died.\nFamilies build altars with the deceased’s favorite foods\, drinks\, and personal items\, and clean and decorate their graves to celebrate their memory and feel a connection between the living and the dead.\nIt is thought that this is when the veil between the living and Dead is the thinnest and communication with those beyond this realm are more likely to be able to be reached to speak to. \nOOC side notes- Dress up\, come by the Vudu shoppe and/or Cemetery. Pay your respects to those who have passed before you. This is a community event for everyone. Think of all the Hathian characters that have passed. Doesn’t  your character want to link up with them again? Come speak to those who are willing to offer the deep dive into the spiritual world for you….. at a cost… of course.
URL:https://thecrackden.com/event/dia-de-los-muertos-aka-day-of-the-dead-celebration/
LOCATION:Hathian Vudu Shoppe and Cemetery\, 1 Battle Street\, Hathian
CATEGORIES:Crack Den
ATTACH;FMTTYPE=image/jpeg:https://thecrackden.com/wp-content/uploads/2025/10/OIG1.jpg
END:VEVENT
BEGIN:VEVENT
DTSTART;TZID=America/Los_Angeles:20251026T140000
DTEND;TZID=America/Los_Angeles:20251026T233000
DTSTAMP:20260419T155933
CREATED:20251027T000842Z
LAST-MODIFIED:20251027T001848Z
UID:7021-1761487200-1761521400@thecrackden.com
SUMMARY:All Saint's Day Party at Feu FOllet
DESCRIPTION:Come celebrate All Saint’s and cure your hangover with the hair of the dog at Feu Follet in Rougarou!
URL:https://thecrackden.com/event/all-saints-day-party-at-feu-follet/
CATEGORIES:Crack Den
END:VEVENT
BEGIN:VEVENT
DTSTART;TZID=America/Los_Angeles:20251025T120000
DTEND;TZID=America/Los_Angeles:20251025T150000
DTSTAMP:20260419T155933
CREATED:20250602T165341Z
LAST-MODIFIED:20251023T211127Z
UID:4222-1761393600-1761404400@thecrackden.com
SUMMARY:Hathian 2025 Halloween Party: Monster Mash
DESCRIPTION:Close out the Halloween season and come down to The Plant! Come as you are or slip into your most monstrous costume and dance the night away! Tunes provided by DJ Ted to set the mood ✨ \n  \n🗓️ Saturday\, October 25th from 12 PM SLT\n🚕 http://maps.secondlife.com/secondlife/Devils%20Pocket/237/243/36
URL:https://thecrackden.com/event/hathian-2025-halloween-party/
CATEGORIES:Crack Den
ATTACH;FMTTYPE=image/png:https://thecrackden.com/wp-content/uploads/2025/06/CD-Halloween-Party.png
END:VEVENT
BEGIN:VEVENT
DTSTART;TZID=America/Los_Angeles:20250926T130000
DTEND;TZID=America/Los_Angeles:20250926T150000
DTSTAMP:20260419T155933
CREATED:20250831T144554Z
LAST-MODIFIED:20250831T144554Z
UID:6579-1758891600-1758898800@thecrackden.com
SUMMARY:Chartbusters Presents: ☆Movie Superstar☆ Date Auction
DESCRIPTION:☆ Want to feel just like a celebrity? Walk on the red carpet dressed in your best? Win a date that might be your soulmate waiting? \n☆ Sign up as a superstar by messaging Caisen Mizuki (inworld: darkzeshade discord: taboo.angel comment on sign-up sheet: https://docs.google.com/spreadsheets/d/1GJfvQzGYGIkZwz_IoYtx3gWs_s1pu5-LrZKEUnBGmk8/edit?usp=sharing ) \n☆ Share your favorite movie title and a captivating blurb about yourself. This is what people will bid on. \n☆ During the bidding\, superstars will walk the red carpet and show off their most alluring\, chic\, and elegant attire \n☆ Prizes for best-dressed; drinks will be served
URL:https://thecrackden.com/event/chartbusters-presents-%e2%98%86movie-superstar%e2%98%86-date-auction-3/
LOCATION:Hathian Theater
CATEGORIES:Crack Den
END:VEVENT
BEGIN:VEVENT
DTSTART;VALUE=DATE:20250919
DTEND;VALUE=DATE:20250922
DTSTAMP:20260419T155933
CREATED:20250602T182722Z
LAST-MODIFIED:20250731T165619Z
UID:4228-1758240000-1758499199@thecrackden.com
SUMMARY:Hurricane Season
DESCRIPTION:
URL:https://thecrackden.com/event/hurricane-season/
CATEGORIES:Backwaters,Columtreal,Crack Den
END:VEVENT
BEGIN:VEVENT
DTSTART;TZID=America/Los_Angeles:20250918T160000
DTEND;TZID=America/Los_Angeles:20250918T190000
DTSTAMP:20260419T155933
CREATED:20250910T205513Z
LAST-MODIFIED:20250912T010509Z
UID:6722-1758211200-1758222000@thecrackden.com
SUMMARY:HGH Blood Drive
DESCRIPTION:Join us at HGH for our seasonal blood drive. Enjoy light refreshments and do a good deed for your community!
URL:https://thecrackden.com/event/hgh-blood-drive/
LOCATION:Hathian General Hospital
CATEGORIES:Crack Den
END:VEVENT
BEGIN:VEVENT
DTSTART;TZID=America/Los_Angeles:20250917T170000
DTEND;TZID=America/Los_Angeles:20250917T200000
DTSTAMP:20260419T155933
CREATED:20250828T151748Z
LAST-MODIFIED:20250828T151748Z
UID:6534-1758128400-1758139200@thecrackden.com
SUMMARY:Temptation - Open Auditions
DESCRIPTION:Ever dreamed about being a porn star? XXX Films is auditioning for fresh talent to feature in its ambitious new production\, Temptation. Dare to bare and get down to it for the camera on our casting couch at the XXX Shop of Hathian. If you have what it takes and what we’re looking for you’ll be asked to sign a release form\, and on receipt of that you will be offered a paying contract to be cast in a role for our production\, shooting sometime after the hurricane season. Further details can be found on the Crack Den Discord. Good luck!
URL:https://thecrackden.com/event/temptation-open-auditions-2/
LOCATION:XXX Shop of Hathian\, Bourbon Street\, Hathian
CATEGORIES:Crack Den
ATTACH;FMTTYPE=image/jpeg:https://thecrackden.com/wp-content/uploads/2025/08/temptation-promo-1.jpg
END:VEVENT
BEGIN:VEVENT
DTSTART;TZID=America/Los_Angeles:20250917T090000
DTEND;TZID=America/Los_Angeles:20250917T130000
DTSTAMP:20260419T155933
CREATED:20250912T003955Z
LAST-MODIFIED:20250912T010648Z
UID:6799-1758099600-1758114000@thecrackden.com
SUMMARY:Sinners Room Carnival Themed Happy Hour
DESCRIPTION:🎪✨💀 WELCOME TO THE SINNERS ROOM CARNIVAL 💀✨🎪 \nStep into the shadows\, darlings… where the air is thick with smoke\, laughter twists into screams\, and the carnival lights flicker just bright enough to hide what’s lurking behind the curtains. \nThis isn’t your ordinary happy hour—it’s a carnival of sinners\, and you’re invited to play. \n🎭 Carnival-Themed Happy Hour🩸 Introduction of a NEW signature drink—something sinful\, intoxicating\, and not for the faint of heart. \n🍷 Imagine sipping your poison beneath the striped tent\, a skull grinning back at you from the rim of your glass\, while music and whispers pull you deeper into the night. Every corner hides a secret. Every shadow might be watching. \n📅 Date: September 17th\, 2025⏰ Time: 9AM – 1PM SLT \n✨ The carnival gates won’t stay open for long. Come masked\, come strange\, come ready to lose yourself in the haze of drinks\, laughter\, and maybe even a little madness. \nBecause here\, at Sinners Room\, we don’t just pour drinks… we pour sin straight into your veins. \n🎡💀 Will you dare step inside? 💀🎡
URL:https://thecrackden.com/event/sinners-room-carnival-themed-happy-hour-2/
CATEGORIES:Crack Den
ATTACH;FMTTYPE=image/jpeg:https://thecrackden.com/wp-content/uploads/2025/09/Sinners-Room-Carnival-Theme-Fixed.jpg
END:VEVENT
BEGIN:VEVENT
DTSTART;TZID=America/Los_Angeles:20250914T140000
DTEND;TZID=America/Los_Angeles:20250914T170000
DTSTAMP:20260419T155933
CREATED:20250911T232348Z
LAST-MODIFIED:20250912T005731Z
UID:6786-1757858400-1757869200@thecrackden.com
SUMMARY:Clam X Vudu X Rader Records Rave at the Plant
DESCRIPTION:Rave at the Plant \nLive D.J\nParty Favors \n 
URL:https://thecrackden.com/event/clam-x-vudu-x-rader-records-rave-at-the-plant/
CATEGORIES:Crack Den
ATTACH;FMTTYPE=image/png:https://thecrackden.com/wp-content/uploads/2025/09/image-5.png
END:VEVENT
BEGIN:VEVENT
DTSTART;TZID=America/Los_Angeles:20250913T090000
DTEND;TZID=America/Los_Angeles:20250913T130000
DTSTAMP:20260419T155933
CREATED:20250907T170835Z
LAST-MODIFIED:20250907T231358Z
UID:6690-1757754000-1757768400@thecrackden.com
SUMMARY:Autumn Sugar Fest
DESCRIPTION:Welcome the Fall season with caramel apples\, ax throwing\, meat on a stick\, and DJ Ted kicking up the tunes.  Pumpkins\, bobbing for apples\, selfie-station and more.  Presented by the Berthier St. Bakery\, Pie Hole Pizzaria & The Slab.
URL:https://thecrackden.com/event/autumn-sugar-fest-2/
LOCATION:Sugar Row
CATEGORIES:Crack Den
ATTACH;FMTTYPE=image/jpeg:https://thecrackden.com/wp-content/uploads/2025/09/sugar-fest.jpg
END:VEVENT
BEGIN:VEVENT
DTSTART;TZID=America/Los_Angeles:20250910T120000
DTEND;TZID=America/Los_Angeles:20250910T160000
DTSTAMP:20260419T155933
CREATED:20250828T151111Z
LAST-MODIFIED:20250828T151111Z
UID:6527-1757505600-1757520000@thecrackden.com
SUMMARY:Temptation - Open Auditions
DESCRIPTION:Ever dreamed about being a porn star? XXX Films is auditioning for fresh talent to feature in its ambitious new production\, Temptation. Dare to bare and get down to it for the camera on our casting couch at the XXX Shop of Hathian. If you have what it takes and what we’re looking for you’ll be asked to sign a release form\, and on receipt of that you will be offered a paying contract to be cast in a role for our production\, shooting sometime after the hurricane season. Further details can be found on the Crack Den Discord. Good luck!
URL:https://thecrackden.com/event/temptation-open-auditions/
LOCATION:XXX Shop of Hathian\, Bourbon Street\, Hathian
CATEGORIES:Crack Den
END:VEVENT
BEGIN:VEVENT
DTSTART;VALUE=DATE:20250908
DTEND;VALUE=DATE:20250919
DTSTAMP:20260419T155933
CREATED:20250827T192700Z
LAST-MODIFIED:20250901T171149Z
UID:6521-1757289600-1758239999@thecrackden.com
SUMMARY:[CD20] OOC: History Showcase
DESCRIPTION:A look at the 20 year history of Crack Den
URL:https://thecrackden.com/event/cd20-ooc-history-showcase/
LOCATION:The Plant
CATEGORIES:Backwaters,Columtreal,Crack Den
ATTACH;FMTTYPE=image/png:https://thecrackden.com/wp-content/uploads/2025/08/CD20-Showcase-Disc-Size.png
END:VEVENT
BEGIN:VEVENT
DTSTART;TZID=America/Los_Angeles:20250907T130000
DTEND;TZID=America/Los_Angeles:20250907T160000
DTSTAMP:20260419T155933
CREATED:20250822T194937Z
LAST-MODIFIED:20250827T192107Z
UID:6452-1757250000-1757260800@thecrackden.com
SUMMARY:Hathian Motors & Asylum Arcade Carwash
DESCRIPTION:Come on down for fun and games at Hathian Motors\, located behind the Grind! Food and drinks available will be available for some fun in the sun. (Npc cars are completely welcome!)
URL:https://thecrackden.com/event/hathian-motors-asylum-arcade-carwash/
CATEGORIES:Crack Den
ATTACH;FMTTYPE=image/jpeg:https://thecrackden.com/wp-content/uploads/2025/08/MotorArcade.jpg
END:VEVENT
END:VCALENDAR