BEGIN:VCALENDAR
VERSION:2.0
PRODID:-//Crack Den - ECPv6.15.20//NONSGML v1.0//EN
CALSCALE:GREGORIAN
METHOD:PUBLISH
X-ORIGINAL-URL:https://thecrackden.com
X-WR-CALDESC:Events for Crack Den
REFRESH-INTERVAL;VALUE=DURATION:PT1H
X-Robots-Tag:noindex
X-PUBLISHED-TTL:PT1H
BEGIN:VTIMEZONE
TZID:America/Los_Angeles
BEGIN:DAYLIGHT
TZOFFSETFROM:-0800
TZOFFSETTO:-0700
TZNAME:PDT
DTSTART:20250309T100000
END:DAYLIGHT
BEGIN:STANDARD
TZOFFSETFROM:-0700
TZOFFSETTO:-0800
TZNAME:PST
DTSTART:20251102T090000
END:STANDARD
BEGIN:DAYLIGHT
TZOFFSETFROM:-0800
TZOFFSETTO:-0700
TZNAME:PDT
DTSTART:20260308T100000
END:DAYLIGHT
BEGIN:STANDARD
TZOFFSETFROM:-0700
TZOFFSETTO:-0800
TZNAME:PST
DTSTART:20261101T090000
END:STANDARD
BEGIN:DAYLIGHT
TZOFFSETFROM:-0800
TZOFFSETTO:-0700
TZNAME:PDT
DTSTART:20270314T100000
END:DAYLIGHT
BEGIN:STANDARD
TZOFFSETFROM:-0700
TZOFFSETTO:-0800
TZNAME:PST
DTSTART:20271107T090000
END:STANDARD
END:VTIMEZONE
BEGIN:VEVENT
DTSTART;TZID=America/Los_Angeles:20260314T090000
DTEND;TZID=America/Los_Angeles:20260314T150000
DTSTAMP:20260419T155557
CREATED:20250825T001110Z
LAST-MODIFIED:20250825T002328Z
UID:6485-1773478800-1773500400@thecrackden.com
SUMMARY:Pi Day Celebration
DESCRIPTION:International Pi Day celebrates the mathematical constant of Pi π whose first three digits corresponds to the date\, 3.14.  Nerdy\, naughty fun and pie in all forms.
URL:https://thecrackden.com/event/pi-day-celebration/
CATEGORIES:Crack Den
END:VEVENT
BEGIN:VEVENT
DTSTART;TZID=America/Los_Angeles:20260320T150000
DTEND;TZID=America/Los_Angeles:20260320T170000
DTSTAMP:20260419T155557
CREATED:20260223T040441Z
LAST-MODIFIED:20260225T210314Z
UID:8073-1774018800-1774026000@thecrackden.com
SUMMARY:Wicker Man Burning – Hathian
DESCRIPTION:🔥 WICKER MAN BURNING 🔥🌱 SPRING EQUINOX CELEBRATION 🌱 \nMarch 20th\, 2026🕐 3:00 PM – 5:00 PM \nAs day and night stand equal\, we gather to welcome the return of light. \nJoin us for an ancient-inspired ritual marking the Spring Equinox\, where a towering Wicker Man will be set ablaze—symbolizing renewal\, balance\, and the rebirth of the land. \n🔥 What to Expect:• The ceremonial burning of the Wicker Man• Fire\, drums\, and primal atmosphere• A communal celebration of spring’s arrival• Dark folklore\, old-world tradition\, and raw energy \n🌿 Why We Burn:To release the old.To honor the turning of the wheel.To call in growth\, warmth\, and new beginnings. \n📅 Date: March 20th\, 2026🕐 Time: 3:00 PM – 5:00 PM🌗 Occasion: Spring Equinox🔥 Ritual: Wicker Man Burning \nCome as you are.Stand in the firelight.Witness the change of the season. \nAll are welcome who respect the rite.
URL:https://thecrackden.com/event/spring-equinox-hathian/
LOCATION:Vudu Spice\, Battle Street\, Hathian
CATEGORIES:Crack Den
ATTACH;FMTTYPE=image/png:https://thecrackden.com/wp-content/uploads/2026/02/ChatGPT-Image-Feb-25-2026-03_41_30-PM.png
END:VEVENT
BEGIN:VEVENT
DTSTART;TZID=America/Los_Angeles:20260321T110000
DTEND;TZID=America/Los_Angeles:20260321T150000
DTSTAMP:20260419T155557
CREATED:20260206T170056Z
LAST-MODIFIED:20260207T145657Z
UID:7851-1774090800-1774105200@thecrackden.com
SUMMARY:Masquerade Ball (Pretty Masks\, Dirty Secrets)
DESCRIPTION:Step through the velvet curtain and leave your name at the door. Nocturne invites you to an evening where chandeliers glitter like watchful eyes and every smile hides a sharper truth. Pretty Masks\, Dirty Secrets: a masquerade of silk\, sin\, and whispered bargains. Dance with strangers\, trade confessions with shadows\, and discover how beautiful deception can be when the music swells and the city forgets to breathe. Invited people get in for free\, cover fee at door for those who don’t have the invite.
URL:https://thecrackden.com/event/masquerade-ball-pretty-masks-dirty-secrets/
LOCATION:Sinners Club
CATEGORIES:Crack Den
ATTACH;FMTTYPE=image/png:https://thecrackden.com/wp-content/uploads/2026/02/Marchevent-1.png
END:VEVENT
BEGIN:VEVENT
DTSTART;TZID=America/Los_Angeles:20260326T090000
DTEND;TZID=America/Los_Angeles:20260326T120000
DTSTAMP:20260419T155557
CREATED:20260326T123548Z
LAST-MODIFIED:20260326T123548Z
UID:8451-1774515600-1774526400@thecrackden.com
SUMMARY:Table dance at Blues
DESCRIPTION:Come to Blues Bar in D8 for a table dance day. Tequila is 50% off\, and topless girls get a free shot. So get your girl on the table to dance let us have a good and hot time. Hottest table dancer will get a Tequila bottle on the way! \nhttps://maps.secondlife.com/secondlife/District%208/232/27/36
URL:https://thecrackden.com/event/table-dance-at-blues/
LOCATION:Blues Bar\, https://maps.secondlife.com/secondlife/District8/232/27/36
CATEGORIES:Crack Den
END:VEVENT
BEGIN:VEVENT
DTSTART;TZID=America/Los_Angeles:20260328T110000
DTEND;TZID=America/Los_Angeles:20260328T150000
DTSTAMP:20260419T155557
CREATED:20260224T232832Z
LAST-MODIFIED:20260224T232832Z
UID:8082-1774695600-1774710000@thecrackden.com
SUMMARY:Montoya's Omerta Prohibition Bar Grand Opening - Roaring 20s
DESCRIPTION:Slip back into a time with the bootlegged drinks flowed as strong as heavy as the music! Montoya’s Omerta Prohibition Bar celebrates its GRAND OPENING on March 28\, 2026 from 11am to 3pm SLT. Located at the corner of Bourbon and Grand Massacre\, at the edge of the Red Light District! The bar will bring the Roaring 20’s alive and out into the street and under the bridge! Come join us for free dangerous drinks\, delightful eats and dance the night away with celebrity entertainment! Take a trip\, speak-easy style\, and investigate the gaming parlor. Any bets placed during the Grand Opening\, will be matched by the House! This is an IC event and will adhere to the Montoya’s Omerta Code! \nMontoya’s Omerta Code\nLoyalty. Respect. Discretion.All walks of life may enter.All conflicts must remain outside. \nBreak the code — and you won’t be back
URL:https://thecrackden.com/event/montoyas-omerta-prohibition-bar-grand-opening-roaring-20s/
LOCATION:Montoya’s Omerta Prohibition Bar\, Bourbon & Grand Massacre\, Hathian
CATEGORIES:Crack Den
ATTACH;FMTTYPE=image/png:https://thecrackden.com/wp-content/uploads/2026/02/OmertaGrandOpening.png
END:VEVENT
BEGIN:VEVENT
DTSTART;TZID=America/Los_Angeles:20260329T100000
DTEND;TZID=America/Los_Angeles:20260329T130000
DTSTAMP:20260419T155557
CREATED:20260321T095818Z
LAST-MODIFIED:20260321T100636Z
UID:8363-1774778400-1774789200@thecrackden.com
SUMMARY:Coffee in colors of love
DESCRIPTION:Come and join us on Sunday\, the 29th of March\, from 10am to 1pm. Our baristas will be waiting to serve you the best coffee in town\, very scantily dressed. You can also donate to a good cause—psychiatric treatment for HPD victims.
URL:https://thecrackden.com/event/coffee-in-colors-of-love/
LOCATION:The Daily Grind\, Hathian
CATEGORIES:Crack Den
ATTACH;FMTTYPE=image/png:https://thecrackden.com/wp-content/uploads/2026/03/The-Grind-event.png
END:VEVENT
BEGIN:VEVENT
DTSTART;TZID=America/Los_Angeles:20260329T140000
DTEND;TZID=America/Los_Angeles:20260329T180000
DTSTAMP:20260419T155557
CREATED:20260209T055003Z
LAST-MODIFIED:20260209T204557Z
UID:7894-1774792800-1774807200@thecrackden.com
SUMMARY:FDH Formal Charity Ball
DESCRIPTION:Fund raising event for Velma\, wounded FD crew member [vehicular but still of the FDH] tragically out of commission from a single bullet that punctured its shiny red exterior. \nThe FD crew would like to raise money-since they get very little from Mayor Boxer- to repair our beloved Fire Truck and make it sound loud and brave once again. And it will help us put out fires too\, so there’s that.
URL:https://thecrackden.com/event/fdh-formal-charity-ball/
CATEGORIES:Crack Den
ATTACH;FMTTYPE=image/png:https://thecrackden.com/wp-content/uploads/2026/02/FDH-FORMAL-FUNDRAISER-Copy.png
END:VEVENT
END:VCALENDAR