BEGIN:VCALENDAR
VERSION:2.0
PRODID:-//Crack Den - ECPv6.15.20//NONSGML v1.0//EN
CALSCALE:GREGORIAN
METHOD:PUBLISH
X-ORIGINAL-URL:https://thecrackden.com
X-WR-CALDESC:Events for Crack Den
REFRESH-INTERVAL;VALUE=DURATION:PT1H
X-Robots-Tag:noindex
X-PUBLISHED-TTL:PT1H
BEGIN:VTIMEZONE
TZID:America/Los_Angeles
BEGIN:DAYLIGHT
TZOFFSETFROM:-0800
TZOFFSETTO:-0700
TZNAME:PDT
DTSTART:20250309T100000
END:DAYLIGHT
BEGIN:STANDARD
TZOFFSETFROM:-0700
TZOFFSETTO:-0800
TZNAME:PST
DTSTART:20251102T090000
END:STANDARD
BEGIN:DAYLIGHT
TZOFFSETFROM:-0800
TZOFFSETTO:-0700
TZNAME:PDT
DTSTART:20260308T100000
END:DAYLIGHT
BEGIN:STANDARD
TZOFFSETFROM:-0700
TZOFFSETTO:-0800
TZNAME:PST
DTSTART:20261101T090000
END:STANDARD
BEGIN:DAYLIGHT
TZOFFSETFROM:-0800
TZOFFSETTO:-0700
TZNAME:PDT
DTSTART:20270314T100000
END:DAYLIGHT
BEGIN:STANDARD
TZOFFSETFROM:-0700
TZOFFSETTO:-0800
TZNAME:PST
DTSTART:20271107T090000
END:STANDARD
END:VTIMEZONE
BEGIN:VEVENT
DTSTART;TZID=America/Los_Angeles:20260320T120000
DTEND;TZID=America/Los_Angeles:20260320T150000
DTSTAMP:20260419T233817
CREATED:20251204T135252Z
LAST-MODIFIED:20260320T172705Z
UID:7207-1774008000-1774018800@thecrackden.com
SUMMARY:Bayou Brawls: Special Edition
DESCRIPTION:With spring making a swift return\, so is Bayou Brawls! This version is quite special to some or just a regular brawl to others. But you you? It’s time to bring cash\, make your bets and you might just walk away with fatter pockets. \nNo gloves. No rules. No cops. \n🗓️ Friday\, March 20th from 12 PM SLT\n🚕 http://maps.secondlife.com/secondlife/Laveau/95/29/1004\n(Teleport door will also be available from the Backwaters landing zone) \n[[For any questions\, please contact Kingston Varriale]]
URL:https://thecrackden.com/event/bayou-brawls-special-edition/
CATEGORIES:Backwaters
ATTACH;FMTTYPE=image/png:https://thecrackden.com/wp-content/uploads/2025/12/BayouBrawlsMarch2026.png
END:VEVENT
BEGIN:VEVENT
DTSTART;TZID=America/Los_Angeles:20260327T110000
DTEND;TZID=America/Los_Angeles:20260327T140000
DTSTAMP:20260419T233817
CREATED:20260216T183602Z
LAST-MODIFIED:20260222T053855Z
UID:8014-1774609200-1774620000@thecrackden.com
SUMMARY:Grand Auction
DESCRIPTION:Underground Auction
URL:https://thecrackden.com/event/grand-auction/
LOCATION:Hidden Relic & The Vault
CATEGORIES:Backwaters
END:VEVENT
BEGIN:VEVENT
DTSTART;TZID=America/Los_Angeles:20260402T130000
DTEND;TZID=America/Los_Angeles:20260402T153000
DTSTAMP:20260419T233817
CREATED:20260305T213356Z
LAST-MODIFIED:20260305T214956Z
UID:8249-1775134800-1775143800@thecrackden.com
SUMMARY:Hook\, Line\, and Sinker Grand Re-Opening
DESCRIPTION:Come on down to Hook\, Line & Sinker in Laveau to celebrate the grand re-opening under new ownership! We’ll have drinks\, music\, food\, and practice targets to shoot at! Come down and be social and learn about all the outdoor adventures Laveau’s bait shop has to offer!
URL:https://thecrackden.com/event/hook-line-sinker-grand-re-opening/
LOCATION:Hook\, Line & Sinker\, Laveau\, LA
CATEGORIES:Backwaters
ATTACH;FMTTYPE=image/png:https://thecrackden.com/wp-content/uploads/2026/03/HLS-Logo3.png
END:VEVENT
BEGIN:VEVENT
DTSTART;TZID=America/Los_Angeles:20260407T120000
DTEND;TZID=America/Los_Angeles:20260407T170000
DTSTAMP:20260419T233817
CREATED:20260407T231040Z
LAST-MODIFIED:20260407T231040Z
UID:8609-1775563200-1775581200@thecrackden.com
SUMMARY:Barracudas Bar & Grill and Empire Tattoo presents: Trial of the Tides
DESCRIPTION:—static crackles… a low hum… then a voice cuts through\, rough and controlled— \n“…You’re listening to Backwaters Radio.” Wood creaks and water shifts beneath it. \n“Barracuda’s Bar & Grill alongside Empire Tattoo are putting out a call for Trial of the Tides.” A pause. Something heavy drops into water somewhere in the distance. \n“You step up. You perform. You earn the crowd Or you don’t.” The males tone hardening\, the edges sharpening. “And if you don’t—” \n—a soft click—like someone leaning into the mic uninvited— \n“Mmm… now don’a go scaring them all off\,” a woman’s lilted voice enters the sound waves\, warm\, smooth\, dangerously amused. “Where’s tha fun in tha’?” \nA faint breath of laughter\, close… sultry. “Dearheart\, if you’ve got something worth showing… I want ta see it. Sing for me\, tell me a story\, make me laugh\, wow me with magic\, whatever you do\, make me and the crowd feel something.” \nBeat. \n“And if you don’a do tha one simple thing?” A soft creak of wood… closer now. “…well.” Her tone dips\, playful… but there’s something sharp underneath. “I suppose we’ll all enjoy watching ta see if ya swim faster than tha gators.” \nThe male exhales a quiet\, almost amused sound\, like he expected this\, “Sign-ups are open\, slots are limited.” \nThe female\, softer now\, like a whisper meant for one person: “Come find me at Barra’s or text at secondlife:///app/agent/ccde1b82-d4f9-4b38-8402-648c3e543206/about\, I’ll make sure you’re… properly placed for the event on May 7th.” A long pause as the water laps gently. \nTogether then\, his voice low\, hers threaded through it: \n“The swamp keeps what it takes.” \n—static rolls back in… then silence—
URL:https://thecrackden.com/event/barracudas-bar-grill-and-empire-tattoo-presents-trial-of-the-tides/
LOCATION:Barracudas Bar & Grill\, Old Shore Rode
CATEGORIES:Backwaters
ATTACH;FMTTYPE=image/png:https://thecrackden.com/wp-content/uploads/2026/04/a4f75d12-98dd-402b-8fc9-7a02c827341e.png
END:VEVENT
BEGIN:VEVENT
DTSTART;TZID=America/Los_Angeles:20260425T120000
DTEND;TZID=America/Los_Angeles:20260425T150000
DTSTAMP:20260419T233817
CREATED:20251204T135547Z
LAST-MODIFIED:20260417T192527Z
UID:7209-1777118400-1777129200@thecrackden.com
SUMMARY:Rave TBA
DESCRIPTION:TBA.
URL:https://thecrackden.com/event/a-rave/
CATEGORIES:Backwaters
END:VEVENT
BEGIN:VEVENT
DTSTART;VALUE=DATE:20260501
DTEND;VALUE=DATE:20260504
DTSTAMP:20260419T233817
CREATED:20251204T154659Z
LAST-MODIFIED:20260417T192256Z
UID:7249-1777593600-1777852799@thecrackden.com
SUMMARY:The Culling
DESCRIPTION:It’s that time of the year again. \n  \nTBA.
URL:https://thecrackden.com/event/theculling/
CATEGORIES:Backwaters
END:VEVENT
BEGIN:VEVENT
DTSTART;TZID=America/Los_Angeles:20260507T120000
DTEND;TZID=America/Los_Angeles:20260507T170000
DTSTAMP:20260419T233817
CREATED:20260416T211808Z
LAST-MODIFIED:20260416T211808Z
UID:8690-1778155200-1778173200@thecrackden.com
SUMMARY:Barracudas Bar & Grill and Empire Tattoo presents: Trial of the Tides
DESCRIPTION:—static crackles… a low hum… then a voice cuts through\, rough and controlled— \n“…You’re listening to Backwaters Radio. Got a little announcement for those of you who think you’ve got something worth showing.” Wood creaks as water shifts beneath it. \n“Barracuda’s Bar & Grill alongside Empire Tattoo are putting out a call for the Trial of the Tides.” A pause. Something heavy drops into water somewhere in the distance. “You step up. You perform. You earn the crowd and if you don’t… you take the walk.” A slow creak of wood stretching out over water. “The plank’s waiting. So is everything underneath it” His tone hardens\, edges sharpening. \na soft click is heard then\, like someone leaning into the mic uninvited\, interrupts him before a woman’s voice cuts through the airwave\, “Mmm… now don’a go scaring them all off just yet!” Her voice is warm\, smooth\, dangerously amused as that soft Irish lilt dances on the airwaves\, “Where’s tha fun in tha’?” A faint breath of laughter\, close… intimate into the listeners ear. \n“Sweethearts\, if you’ve got something worth showing… I wanna see it\, sing for me\, tell me a story\, make me laugh\, wow me with your magical talents\, but whatever ya do\, ya gotta make me feel something ta earn your treasure.” \nA long beat drops of silence. \n“And if you don’a achieve it?” A soft creak of wood… closer now. “…well.” Her tone dips\, playful… but there’s something sharp underneath. “I suppose we’ll all enjoy watching ta see if ya can outswim what’s below.” \nThe male exhales a quiet\, almost amused sound\, like he expected her butting in\, “Sign-ups are open. Slots are limited. Talent show begins at 12slt\, May 7th\, 1k (Lindens) on the line for winners!” \nThe female\, softer now\, like a whisper meant for one person\, a sirens song for any bold enough to hear “Come find me. I’ll make sure you’re… properly placed.” A long pause as water laps gently. \nTogether\, his voice low\, hers threaded through it: \n“The swamp keeps what it takes.” \n-static rolls back in… then the music resumes-
URL:https://thecrackden.com/event/barracudas-bar-grill-and-empire-tattoo-presents-trial-of-the-tides-2/
LOCATION:Barracudas Bar & Grill\, Old Shore Rode
CATEGORIES:Backwaters
ATTACH;FMTTYPE=image/png:https://thecrackden.com/wp-content/uploads/2026/04/a4f75d12-98dd-402b-8fc9-7a02c827341e-1.png
END:VEVENT
BEGIN:VEVENT
DTSTART;TZID=America/Los_Angeles:20260530T120000
DTEND;TZID=America/Los_Angeles:20260530T160000
DTSTAMP:20260419T233817
CREATED:20260225T214938Z
LAST-MODIFIED:20260225T214938Z
UID:8104-1780142400-1780156800@thecrackden.com
SUMMARY:Bayou Brawls: TBA
DESCRIPTION:Back after a small break \n  \n[[For any questions\, please contact Kingston Varriale]]
URL:https://thecrackden.com/event/bayou-brawls-tba-3/
CATEGORIES:Backwaters
END:VEVENT
BEGIN:VEVENT
DTSTART;TZID=America/Los_Angeles:20260606T120000
DTEND;TZID=America/Los_Angeles:20260606T150000
DTSTAMP:20260419T233817
CREATED:20251204T135800Z
LAST-MODIFIED:20251204T142203Z
UID:7211-1780747200-1780758000@thecrackden.com
SUMMARY:Pride Season Opening: Foam Rave 🌈✨
DESCRIPTION:
URL:https://thecrackden.com/event/pride-foam-rave/
CATEGORIES:Backwaters
END:VEVENT
BEGIN:VEVENT
DTSTART;TZID=America/Los_Angeles:20260620T120000
DTEND;TZID=America/Los_Angeles:20260620T150000
DTSTAMP:20260419T233817
CREATED:20251204T142006Z
LAST-MODIFIED:20251204T142054Z
UID:7227-1781956800-1781967600@thecrackden.com
SUMMARY:Pride Season Closing: Roller Disco 🌈✨
DESCRIPTION:TBA
URL:https://thecrackden.com/event/pride-season-closing-roller-disco-%f0%9f%8c%88%e2%9c%a8/
CATEGORIES:Backwaters
END:VEVENT
BEGIN:VEVENT
DTSTART;TZID=America/Los_Angeles:20260627T120000
DTEND;TZID=America/Los_Angeles:20260627T160000
DTSTAMP:20260419T233817
CREATED:20260225T215400Z
LAST-MODIFIED:20260225T215400Z
UID:8106-1782561600-1782576000@thecrackden.com
SUMMARY:Bayou Brawls: TBA
DESCRIPTION:[[For any questions\, contact Kingston Varriale]]
URL:https://thecrackden.com/event/bayou-brawls-tba-4/
CATEGORIES:Backwaters
END:VEVENT
BEGIN:VEVENT
DTSTART;TZID=America/Los_Angeles:20261010T120000
DTEND;TZID=America/Los_Angeles:20261010T150000
DTSTAMP:20260419T233817
CREATED:20251204T141256Z
LAST-MODIFIED:20251204T141256Z
UID:7219-1791633600-1791644400@thecrackden.com
SUMMARY:Laveau 2026 Halloween Party: Blood Rave
DESCRIPTION:TBA
URL:https://thecrackden.com/event/laveau-2026-halloween-party-blood-rave/
CATEGORIES:Backwaters
END:VEVENT
BEGIN:VEVENT
DTSTART;VALUE=DATE:20261113
DTEND;VALUE=DATE:20261114
DTSTAMP:20260419T233817
CREATED:20251204T142924Z
LAST-MODIFIED:20251204T142924Z
UID:7234-1794528000-1794614399@thecrackden.com
SUMMARY:Devils Night
DESCRIPTION:
URL:https://thecrackden.com/event/devils-night-2/
CATEGORIES:Backwaters
END:VEVENT
END:VCALENDAR